{"text_format":"1","workbook":"xlsx","n_sheets":6,"sheets":["Ansökan","Bilaga 2","Preparat","Bilaga 3","Bilaga 3 (1)","Grödor"],"not_rendered":{"charts":0,"images":6,"macros":1,"external_links":0,"defined_names":12,"comments":3,"pivot_tables":0},"unopened":[],"bounds":{"document_bytes":16777216,"sheet_cells":100000,"rows_first":2000,"rows_last":500,"rows_between":2000,"halvings":0,"cell_chars":16384,"cell_head_chars":4096},"cells_cut":0,"cells_raw":0,"read":"whole","date_system":"1900"}

{"sheet":"Ansökan","index":0,"n_rows":100,"n_cols":9,"rows_kept":100,"cut":false,"hidden":false,"merged":[[68,0,68,4],[67,0,67,4],[38,0,38,4],[37,0,37,4],[43,0,43,8],[44,0,44,8],[45,0,45,8],[46,0,46,1],[46,2,46,5],[46,7,46,8],[37,5,37,8],[38,5,38,8],[47,0,47,7],[41,0,41,4],[41,5,41,8],[57,0,57,4],[19,0,21,8],[17,0,17,8],[15,5,15,8],[13,5,13,8],[15,0,15,4],[13,0,13,4],[16,0,16,8],[18,0,18,8],[9,0,9,8],[10,0,10,4],[10,5,10,6],[10,7,10,8],[8,0,8,8],[12,0,12,4],[12,5,12,8],[11,0,11,4],[14,0,14,4],[14,5,14,8],[11,5,11,6],[11,7,11,8],[22,0,22,8],[26,0,26,4],[26,5,26,8],[27,0,27,4],[27,5,27,8],[23,0,23,8],[33,0,33,4],[33,5,33,8],[28,5,28,8],[29,5,29,8],[30,5,30,8],[31,5,31,8],[31,0,31,4],[30,0,30,4],[29,0,29,4],[28,0,28,4],[32,5,32,8],[32,0,32,4],[57,5,57,8],[50,0,50,8],[51,0,51,8],[34,0,34,4],[34,5,34,8],[35,0,35,4],[35,5,35,8],[36,5,36,8],[36,0,36,4],[39,0,39,4],[39,5,39,8],[40,0,40,4],[40,5,40,8],[63,1,63,3],[63,5,63,6],[64,0,64,3],[64,7,64,8],[58,0,58,4],[58,5,58,8],[60,3,60,4],[60,7,60,8],[75,0,75,4],[75,5,75,8],[76,0,76,4],[76,5,76,8],[69,0,69,4],[70,0,70,4],[72,0,72,8],[73,0,73,8]]}
[null,null,null,null,"Ansökan om tillstånd för yrkesmässig spridning"]
[null,null,null,null,"av bekämpningsmedel inom skyddsområde för"]
[null,null,null,null,"vattentäkt "]
[null,null,null,null,"Naturvårdsverkets författning SNFS 2015:2 "]
[]
[null,null,null,null,"Tillstånd ska sökas av den som avser utföra spridningen eller, efter"]
[null,null,null,null,"skriftlig överenskommelse dem emellan, av den som nyttjar marken."]
["Sökande"]
["Namn"]
[]
["Adress",null,null,null,null,"Postnummer",null,"Ort"]
[]
["Telefonnummer",null,null,null,null,"Mobilnummer"]
[]
["E-postadress",null,null,null,null,"Faxnummer"]
[]
["Organisationsnummer/Personnummer"]
[]
["Fastighetsbeteckning(ar) för vilka tillstånd söks"]
[]
[]
[]
["Tillstånd söks för tiden (max 3 år)"]
[]
[]
["Sprutförare "]
["Namn",null,null,null,null,"Personnummer"]
[]
["Behörighet/tillstånd nr",null,null,null,null,"Giltig t o m"]
[]
["Namn",null,null,null,null,"Personnummer"]
[]
["Behörighet/tillstånd nr",null,null,null,null,"Giltig t o m"]
[]
["Namn",null,null,null,null,"Personnummer"]
[]
["Behörighet/tillstånd nr",null,null,null,null,"Giltig t o m"]
[]
["Namn",null,null,null,null,"Personnummer"]
[]
["Behörighet/tillstånd nr",null,null,null,null,"Giltig t o m"]
[]
["Plats för påfyllning av spruta"]
["Fastighet"]
[]
["Typ"]
["Biobädd",null,"   Tät platta med uppsamling utan avlopp",null,null,null,"Annan: ange vad"]
["Avstånd till närmaste vattentäkt, dagvatten/dräneringsbrunn, dike vattendrag eller liknande:"]
[]
["Plats för rengöring av spruta"]
["Ange var"]
[]
[]
[]
[]
[]
[]
["Tankstorlek",null,null,null,null,"Rampbredd"]
[]
["Extra färskvattentank för rengöring  ",null,null,null,null,null,"Ja               Storlek",null,"           Nej"]
["Godkänd funktionstest utfört den ",null,null,null,null,"Protokoll nummer"]
[]
["Markförhållanden"]
["Lerhalt:",null,null,null,"Mullhalt:",null,null,"              pH:"]
["Jordartsanalys finns",null,null,null,"        Ja, för",null,"år","        Nej"]
[]
["Finns följande på eller intill fastigheten/-erna som ansökan gäller?"]
["Vattentäkt, grävd eller borrad",null,null,null,null,null,"Ja","       Nej"]
["Öppna diken",null,null,null,null,null,"Ja","       Nej"]
["Vattendrag, sjö, märgelgrav eller liknande",null,null,null,null,null,"Ja","       Nej"]
["Dagvatten eller dräneringsbrunn",null,null,null,null,null,"Ja","       Nej"]
[]
["Är ni med i något odlingssystem? Ange vilket/vilka"]
[]
[]
["Ort och datum",null,null,null,null,"Namnteckning"]
[]
[]
[]
[null,"kopia på skifteskarta om sådan inte inlämnats tidigare eller om den ändrats."]
[]
["Fortsättning: Växla blad med flikarna i bottenlisten av excelarket."]
[]
["Ansökan skickas som bifogad fil till:"]
["vellinge.kommun@vellinge.se"]
["Alternativt med vanlig post till:"]
["Miljö- och byggnadsnämnden"]
["235 81 Vellinge"]
[]
[]
["Kommunfullmäktige i Vellinge har beslutat om avgift för tillstånd till spridning av bekämpningsmedel"]
["Beloppet är 2600 kr fr o m den 1 januari 2026. Faktureras efter beslut. "]
[]
[]
["Vellinge kommun hanterar dina personuppgifter enligt Dataskyddsförordningen (GDPR)."]
["Mer information hittar du på Vellinge.se/personuppgifter"]
[]
[]
[]
["Miljö- och byggnadsnämnden",null,null,null,"Telefon: 040 - 42 50 00"]

{"sheet":"Bilaga 2","index":1,"n_rows":72,"n_cols":9,"rows_kept":72,"cut":false,"hidden":false,"merged":[[32,0,32,1],[33,0,33,1],[34,0,34,1],[35,0,35,1],[26,0,26,1],[27,0,27,1],[28,0,28,1],[29,0,29,1],[30,0,30,1],[31,0,31,1],[40,0,40,1],[36,0,36,1],[37,0,37,1],[38,0,38,1],[39,0,39,1],[25,0,25,1],[16,0,16,1],[17,0,17,1],[18,0,18,1],[12,0,12,1],[13,0,13,1],[14,0,14,1],[15,0,15,1],[20,0,20,1],[21,0,21,1],[22,0,22,1],[23,0,23,1],[24,0,24,1],[19,0,19,1],[2,1,2,8],[9,0,9,1],[10,0,10,1],[11,0,11,1],[7,0,7,1],[8,0,8,1],[45,0,45,1],[46,0,46,1],[47,0,47,1],[48,0,48,1],[41,0,41,1],[42,0,42,1],[43,0,43,1],[44,0,44,1],[53,0,53,1],[54,0,54,1],[55,0,55,1],[56,0,56,1],[49,0,49,1],[50,0,50,1],[51,0,51,1],[52,0,52,1],[61,0,61,1],[62,0,62,1],[63,0,63,1],[64,0,64,1],[57,0,57,1],[58,0,58,1],[59,0,59,1],[60,0,60,1],[69,0,69,1],[70,0,70,1],[71,0,71,1],[65,0,65,1],[66,0,66,1],[67,0,67,1],[68,0,68,1]]}
["Ansökan om tillstånd",null,null,null,null,null,null,null,"Bilaga 2"]
[]
["Sökande:",{"$f":"IF(Ansökan!$A$10=0,\"\",Ansökan!$A$10)","v":""}]
["Information om blanketten:"]
["Blanketten är självinstruerande, flytta musen över blanketten och aktell information visas"]
["Om skiftet har både låg lerhalt och låg mullhalt indikeras automatiskt genomsläpplig i rutan för markförhållande.  "]
["Om markförhållande genomsläpplig är indikerad bör speciell hänsyn tas vid preparatval och dos."]
["Skifte",null,"pH","Lerhalt (%)","Mullhalt (%)","Markförhållande","Gröda 2026","Gröda 2027","Gröda 2028"]
[null,null,null,null,null,{"$f":"IF(AND(D9<Grödor!$F$2,E9<Grödor!$G$2,D9<>0,E9<>0),\"genomsläpplig\",\"\")","v":""}]
[null,null,null,null,null,{"$f":"IF(AND(D10<Grödor!$F$2,E10<Grödor!$G$2,D10<>0,E10<>0),\"genomsläpplig\",\"\")","v":""}]
[null,null,null,null,null,{"$f":"IF(AND(D11<Grödor!$F$2,E11<Grödor!$G$2,D11<>0,E11<>0),\"genomsläpplig\",\"\")","v":""}]
[null,null,null,null,null,{"$f":"IF(AND(D12<Grödor!$F$2,E12<Grödor!$G$2,D12<>0,E12<>0),\"genomsläpplig\",\"\")","v":""}]
[null,null,null,null,null,{"$f":"IF(AND(D13<Grödor!$F$2,E13<Grödor!$G$2,D13<>0,E13<>0),\"genomsläpplig\",\"\")","v":""}]
[null,null,null,null,null,{"$f":"IF(AND(D14<Grödor!$F$2,E14<Grödor!$G$2,D14<>0,E14<>0),\"genomsläpplig\",\"\")","v":""}]
[null,null,null,null,null,{"$f":"IF(AND(D15<Grödor!$F$2,E15<Grödor!$G$2,D15<>0,E15<>0),\"genomsläpplig\",\"\")","v":""}]
[null,null,null,null,null,{"$f":"IF(AND(D16<Grödor!$F$2,E16<Grödor!$G$2,D16<>0,E16<>0),\"genomsläpplig\",\"\")","v":""}]
[null,null,null,null,null,{"$f":"IF(AND(D17<Grödor!$F$2,E17<Grödor!$G$2,D17<>0,E17<>0),\"genomsläpplig\",\"\")","v":""}]
[null,null,null,null,null,{"$f":"IF(AND(D18<Grödor!$F$2,E18<Grödor!$G$2,D18<>0,E18<>0),\"genomsläpplig\",\"\")","v":""}]
[null,null,null,null,null,{"$f":"IF(AND(D19<Grödor!$F$2,E19<Grödor!$G$2,D19<>0,E19<>0),\"genomsläpplig\",\"\")","v":""}]
[null,null,null,null,null,{"$f":"IF(AND(D20<Grödor!$F$2,E20<Grödor!$G$2,D20<>0,E20<>0),\"genomsläpplig\",\"\")","v":""}]
[null,null,null,null,null,{"$f":"IF(AND(D21<Grödor!$F$2,E21<Grödor!$G$2,D21<>0,E21<>0),\"genomsläpplig\",\"\")","v":""}]
[null,null,null,null,null,{"$f":"IF(AND(D22<Grödor!$F$2,E22<Grödor!$G$2,D22<>0,E22<>0),\"genomsläpplig\",\"\")","v":""}]
[null,null,null,null,null,{"$f":"IF(AND(D23<Grödor!$F$2,E23<Grödor!$G$2,D23<>0,E23<>0),\"genomsläpplig\",\"\")","v":""}]
[null,null,null,null,null,{"$f":"IF(AND(D24<Grödor!$F$2,E24<Grödor!$G$2,D24<>0,E24<>0),\"genomsläpplig\",\"\")","v":""}]
[null,null,null,null,null,{"$f":"IF(AND(D25<Grödor!$F$2,E25<Grödor!$G$2,D25<>0,E25<>0),\"genomsläpplig\",\"\")","v":""}]
[null,null,null,null,null,{"$f":"IF(AND(D26<Grödor!$F$2,E26<Grödor!$G$2,D26<>0,E26<>0),\"genomsläpplig\",\"\")","v":""}]
[null,null,null,null,null,{"$f":"IF(AND(D27<Grödor!$F$2,E27<Grödor!$G$2,D27<>0,E27<>0),\"genomsläpplig\",\"\")","v":""}]
[null,null,null,null,null,{"$f":"IF(AND(D28<Grödor!$F$2,E28<Grödor!$G$2,D28<>0,E28<>0),\"genomsläpplig\",\"\")","v":""}]
[null,null,null,null,null,{"$f":"IF(AND(D29<Grödor!$F$2,E29<Grödor!$G$2,D29<>0,E29<>0),\"genomsläpplig\",\"\")","v":""}]
[null,null,null,null,null,{"$f":"IF(AND(D30<Grödor!$F$2,E30<Grödor!$G$2,D30<>0,E30<>0),\"genomsläpplig\",\"\")","v":""}]
[null,null,null,null,null,{"$f":"IF(AND(D31<Grödor!$F$2,E31<Grödor!$G$2,D31<>0,E31<>0),\"genomsläpplig\",\"\")","v":""}]
[null,null,null,null,null,{"$f":"IF(AND(D32<Grödor!$F$2,E32<Grödor!$G$2,D32<>0,E32<>0),\"genomsläpplig\",\"\")","v":""}]
[null,null,null,null,null,{"$f":"IF(AND(D33<Grödor!$F$2,E33<Grödor!$G$2,D33<>0,E33<>0),\"genomsläpplig\",\"\")","v":""}]
[null,null,null,null,null,{"$f":"IF(AND(D34<Grödor!$F$2,E34<Grödor!$G$2,D34<>0,E34<>0),\"genomsläpplig\",\"\")","v":""}]
[null,null,null,null,null,{"$f":"IF(AND(D35<Grödor!$F$2,E35<Grödor!$G$2,D35<>0,E35<>0),\"genomsläpplig\",\"\")","v":""}]
[null,null,null,null,null,{"$f":"IF(AND(D36<Grödor!$F$2,E36<Grödor!$G$2,D36<>0,E36<>0),\"genomsläpplig\",\"\")","v":""}]
[null,null,null,null,null,{"$f":"IF(AND(D37<Grödor!$F$2,E37<Grödor!$G$2,D37<>0,E37<>0),\"genomsläpplig\",\"\")","v":""}]
[null,null,null,null,null,{"$f":"IF(AND(D38<Grödor!$F$2,E38<Grödor!$G$2,D38<>0,E38<>0),\"genomsläpplig\",\"\")","v":""}]
[null,null,null,null,null,{"$f":"IF(AND(D39<Grödor!$F$2,E39<Grödor!$G$2,D39<>0,E39<>0),\"genomsläpplig\",\"\")","v":""}]
[null,null,null,null,null,{"$f":"IF(AND(D40<Grödor!$F$2,E40<Grödor!$G$2,D40<>0,E40<>0),\"genomsläpplig\",\"\")","v":""}]
[null,null,null,null,null,{"$f":"IF(AND(D41<Grödor!$F$2,E41<Grödor!$G$2,D41<>0,E41<>0),\"genomsläpplig\",\"\")","v":""}]
[null,null,null,null,null,{"$f":"IF(AND(D42<Grödor!$F$2,E42<Grödor!$G$2,D42<>0,E42<>0),\"genomsläpplig\",\"\")","v":""}]
[null,null,null,null,null,{"$f":"IF(AND(D43<Grödor!$F$2,E43<Grödor!$G$2,D43<>0,E43<>0),\"genomsläpplig\",\"\")","v":""}]
[null,null,null,null,null,{"$f":"IF(AND(D44<Grödor!$F$2,E44<Grödor!$G$2,D44<>0,E44<>0),\"genomsläpplig\",\"\")","v":""}]
[null,null,null,null,null,{"$f":"IF(AND(D45<Grödor!$F$2,E45<Grödor!$G$2,D45<>0,E45<>0),\"genomsläpplig\",\"\")","v":""}]
[null,null,null,null,null,{"$f":"IF(AND(D46<Grödor!$F$2,E46<Grödor!$G$2,D46<>0,E46<>0),\"genomsläpplig\",\"\")","v":""}]
[null,null,null,null,null,{"$f":"IF(AND(D47<Grödor!$F$2,E47<Grödor!$G$2,D47<>0,E47<>0),\"genomsläpplig\",\"\")","v":""}]
[null,null,null,null,null,{"$f":"IF(AND(D48<Grödor!$F$2,E48<Grödor!$G$2,D48<>0,E48<>0),\"genomsläpplig\",\"\")","v":""}]
[null,null,null,null,null,{"$f":"IF(AND(D49<Grödor!$F$2,E49<Grödor!$G$2,D49<>0,E49<>0),\"genomsläpplig\",\"\")","v":""}]
[null,null,null,null,null,{"$f":"IF(AND(D50<Grödor!$F$2,E50<Grödor!$G$2,D50<>0,E50<>0),\"genomsläpplig\",\"\")","v":""}]
[null,null,null,null,null,{"$f":"IF(AND(D51<Grödor!$F$2,E51<Grödor!$G$2,D51<>0,E51<>0),\"genomsläpplig\",\"\")","v":""}]
[null,null,null,null,null,{"$f":"IF(AND(D52<Grödor!$F$2,E52<Grödor!$G$2,D52<>0,E52<>0),\"genomsläpplig\",\"\")","v":""}]
[null,null,null,null,null,{"$f":"IF(AND(D53<Grödor!$F$2,E53<Grödor!$G$2,D53<>0,E53<>0),\"genomsläpplig\",\"\")","v":""}]
[null,null,null,null,null,{"$f":"IF(AND(D54<Grödor!$F$2,E54<Grödor!$G$2,D54<>0,E54<>0),\"genomsläpplig\",\"\")","v":""}]
[null,null,null,null,null,{"$f":"IF(AND(D55<Grödor!$F$2,E55<Grödor!$G$2,D55<>0,E55<>0),\"genomsläpplig\",\"\")","v":""}]
[null,null,null,null,null,{"$f":"IF(AND(D56<Grödor!$F$2,E56<Grödor!$G$2,D56<>0,E56<>0),\"genomsläpplig\",\"\")","v":""}]
[null,null,null,null,null,{"$f":"IF(AND(D57<Grödor!$F$2,E57<Grödor!$G$2,D57<>0,E57<>0),\"genomsläpplig\",\"\")","v":""}]
[null,null,null,null,null,{"$f":"IF(AND(D58<Grödor!$F$2,E58<Grödor!$G$2,D58<>0,E58<>0),\"genomsläpplig\",\"\")","v":""}]
[null,null,null,null,null,{"$f":"IF(AND(D59<Grödor!$F$2,E59<Grödor!$G$2,D59<>0,E59<>0),\"genomsläpplig\",\"\")","v":""}]
[null,null,null,null,null,{"$f":"IF(AND(D60<Grödor!$F$2,E60<Grödor!$G$2,D60<>0,E60<>0),\"genomsläpplig\",\"\")","v":""}]
[null,null,null,null,null,{"$f":"IF(AND(D61<Grödor!$F$2,E61<Grödor!$G$2,D61<>0,E61<>0),\"genomsläpplig\",\"\")","v":""}]
[null,null,null,null,null,{"$f":"IF(AND(D62<Grödor!$F$2,E62<Grödor!$G$2,D62<>0,E62<>0),\"genomsläpplig\",\"\")","v":""}]
[null,null,null,null,null,{"$f":"IF(AND(D63<Grödor!$F$2,E63<Grödor!$G$2,D63<>0,E63<>0),\"genomsläpplig\",\"\")","v":""}]
[null,null,null,null,null,{"$f":"IF(AND(D64<Grödor!$F$2,E64<Grödor!$G$2,D64<>0,E64<>0),\"genomsläpplig\",\"\")","v":""}]
[null,null,null,null,null,{"$f":"IF(AND(D65<Grödor!$F$2,E65<Grödor!$G$2,D65<>0,E65<>0),\"genomsläpplig\",\"\")","v":""}]
[null,null,null,null,null,{"$f":"IF(AND(D66<Grödor!$F$2,E66<Grödor!$G$2,D66<>0,E66<>0),\"genomsläpplig\",\"\")","v":""}]
[null,null,null,null,null,{"$f":"IF(AND(D67<Grödor!$F$2,E67<Grödor!$G$2,D67<>0,E67<>0),\"genomsläpplig\",\"\")","v":""}]
[null,null,null,null,null,{"$f":"IF(AND(D68<Grödor!$F$2,E68<Grödor!$G$2,D68<>0,E68<>0),\"genomsläpplig\",\"\")","v":""}]
[null,null,null,null,null,{"$f":"IF(AND(D69<Grödor!$F$2,E69<Grödor!$G$2,D69<>0,E69<>0),\"genomsläpplig\",\"\")","v":""}]
[null,null,null,null,null,{"$f":"IF(AND(D70<Grödor!$F$2,E70<Grödor!$G$2,D70<>0,E70<>0),\"genomsläpplig\",\"\")","v":""}]
[null,null,null,null,null,{"$f":"IF(AND(D71<Grödor!$F$2,E71<Grödor!$G$2,D71<>0,E71<>0),\"genomsläpplig\",\"\")","v":""}]
[null,null,null,null,null,{"$f":"IF(AND(D72<Grödor!$F$2,E72<Grödor!$G$2,D72<>0,E72<>0),\"genomsläpplig\",\"\")","v":""}]

{"sheet":"Preparat","index":2,"n_rows":322,"n_cols":7,"rows_kept":322,"cut":false,"hidden":true,"merged":[]}
["Preparatnamn","Regnr","Klass","Anv. Förbud","Läckagerisk","Läckagerisk GUL","Övrigt"]
["Acanto",4773,"2 L",null,null,null,"Bedöms av SANCO att finns potential för läckage till grundvatte i områden med känsliga jordar och klimat."]
["Acanto Prima",4785,"2 L","2013-05-01",null,null,"Bedöms av SANCO att finns potential för läckage till grundvatte i områden med känsliga jordar och klimat."]
["Acrobat WG",4201,"1 L",null,null,null,"Bedöms av SANCO att finns potential för läckage till grundvatte i områden med känsliga jordar och klimat."]
["Admiral 10 EC",4557,"2 L"]
["ALAR 85 SG",4329,"1 L",null,"Läck.Risk i genomsläpplig mark"]
["Aliette 80 WG",4048,"2 L"]
["ALLY 50 ST ",4727,"2 L"]
["Ally Class 50 WG ",4404,"2 L"]
["Ambly-line cu",4445]
["Amblyseius-System",4148]
["Amistar",4219,"2 L"]
["Aphidend",4155]
["Aphidius-Mix-System",4618]
["Aphidius-System",4204]
["Aphidoletes system",4147]
["Aphido-line a",4447]
["Aphi-line c",4446]
["Aphi-line e",4497]
["Aphipar",4205]
["Apollo 50 SC",4633,"2 L",null,"Läck.Risk i genomsläpplig mark",null,"Mycket lång halveringstid, Bedöms av SANCO att finns potential för läckage till grundvatte i områden med känsliga jordar och klimat, speciellt på jordar med särskilt höga pH-värden"]
["Apron XL",4362,"2 L",null,null,null,"Lång halveringstid, Bedöms av SANCO att finns potential för läckage till grundvatte i områden med känsliga jordar och klimat. Framför allt för nedbrytningsprodukterna CGA62826 och CGA108906 kan vara grundvattenkontaminater"]
["Apron XL",4362]
["Arbinol B",5000,"2 L"]
["Ariane S",3856,"2 L",null,"Läck.Risk i genomsläpplig mark",null,"Mycket lång halveringstid"]
["Armure",4902,"2 L",null,null,null,"Mycket lång halveringstid"]
["Armure",4902]
["Astrum",4780,"2 L",null,"Läck.Risk i genomsläpplig mark",null,"Mycket lång halveringstid"]
["Atlantis OD",4838,"2 L",null,"Läck.Risk i genomsläpplig mark","Läck.Risk i genomsläpplig mark","Lång halveringstid"]
["Attribut SG 70",4710,"2 L",null,"Läck.Risk i genomsläpplig mark",null,"Lång halveringstid"]
["Bacara",4542,"2 L",null,null,null,"Mycket lång halveringstid"]
["Balance SX",5036,"2 L",null,"Läck.Risk i genomsläpplig mark",null,"Bedöms av SANCO att finns potential för läckage till grundvatte i områden med känsliga jordar och klimat."]
["Barclay Bolt XL",5032,"2 L",null,null,null,"Mycket lång halveringstid"]
["Barclay D-quat",5005,"1 L",null,null,null,"Mycket lång halveringstid"]
["Barclay Gallup 360",4810,"2 L",null,null,null,"Bedöms av SANCO att finns potential för läckage till grundvatte i områden med känsliga jordar och klimat."]
["Barclay Gallup Biograde 360",4812,"2 L",null,null,null,"Bedöms av SANCO att finns potential för läckage till grundvatte i områden med känsliga jordar och klimat."]
["Barclay Gallup Hi-Aktiv",4811,"2 L",null,null,null,"Bedöms av SANCO att finns potential för läckage till grundvatte i områden med känsliga jordar och klimat."]
["Basagran SG  ",4115,"2 L",null,null,"Läck.Risk i genomsläpplig mark","Mycket lång halveringstid"]
["Basamid Granulat",2464,"1 L"]
["BASF Cycocel Plus",3272,"2 L"]
["BASF Forbel 750",3615,"2 L",null,null,null,"Enligt EFSA saknas riskanalys för en metabolit (BF- 421-7), vilket lett till att SANCO pekar ut grundvatten som ett område att beakta för fenpropimorf i sitt utlåtande"]
["Basta",3850,"2 L","2012-12-31",null,null,"Bedöms av SANCO att finns potential för läckage till grundvatte i områden med känsliga jordar och klimat."]
["Baycor 25 WP",3605,"2 L","2012-12-31"]
["Beta-Baythroid SC 025",4365,"2 L"]
["Betanal Power",4868,"2 L"]
["Betasana SC",4967,"2 L"]
["BINAB TF WP",4420]
["BIO Blast & Ogräsättika Y 10%",4075,"2 L"]
["BioProduction Amblyseius cucumeris",4576]
["Biox-M",5031,"2 L"]
["Biscaya OD 240",4791,"2 L",null,null,null,"Bedöms av SANCO att finns potential för läckage till grundvatte i områden med känsliga jordar och klimat."]
["Blast & Ogräsättika Y 24%",4076,"2 L"]
["Botani Gard 22 WP",4493]
["Botani Gard Emulsifiable Suspension",4494]
["Boxer",3887,"2 L"]
["Broadway",4954,"2 L",null,"Läck.Risk i genomsläpplig mark",null,"Bedöms av SANCO att finns potential för läckage till grundvatte i områden med känsliga jordar och klimat."]
["Bumper 25 EC",4939,"2 L",null,null,null,"Mycket lång halveringstid"]
["Butisan Top ",4634,"2 L",null,null,"Läck.Risk i genomsläpplig mark","Mycket lång halveringstid, Bedöms av SANCO att finns potential för läckage till grundvatte i områden med känsliga jordar och klimat."]
["Callisto",4898,"2 L",null,null,"Läck.Risk i genomsläpplig mark"]
["Callisto",4898]
["Calypso SC 480",4820,"2 L",null,null,null,"Bedöms av SANCO att finns potential för läckage till grundvatte i områden med känsliga jordar och klimat."]
["Candit",4211,"2 L",null,null,null,"Bedöms av SANCO att finns potential för läckage till grundvatte i områden med känsliga jordar och klimat."]
["Cantor",4992,"2 L",null,"Läck.Risk i genomsläpplig mark"]
["Cantus",4872,"2 L"]
["Cedomon",4234]
["Celest Extra Formula M",5027,"2 L"]
["Celest Formula M",4392,"2 L",null,null,null,"Bedöms av SANCO att finns potential för läckage till grundvatte i områden med känsliga jordar och klimat."]
["Centium 36 CS",4778,"2 L"]
["Centium 36 CS",4778]
["Cerone",3571,"2 L"]
["Chekker ",4767,"2 L",null,"Läck.Risk i genomsläpplig mark",null,"Mycket lång halveringstid. Bedöms av SANCO att finns potential för läckage till grundvatte i områden med känsliga jordar och klimat."]
["Chinook FS 200",4358,"1 L",null,null,null,"Lång halveringstid"]
["Clinic",4870,"2 L"]
["Cliophar 100 SL ",4508,"2 L","2013-04-30","Läck.Risk i genomsläpplig mark",null,"Mycket lång halveringstid. Bedöms av SANCO att finns potential för läckage till grundvatte i områden med känsliga jordar och klimat."]
["Comet",4583,"2 L"]
["Confidor WG 70",4455,"2 L"]
["Conserve",4511,"2 L"]
["Contans WG",4677]
["Cougar  ",3963,"2 L",null,"Läck.Risk i genomsläpplig mark"]
["Cruiser SB",5028,"2 L"]
["Cymbal 45",5047,"2 L",null,"Läck.Risk i genomsläpplig mark"]
["Dacnusa-Mix-System",4615]
["Danadim Progress ",4904,"2 L","2013-10-01"]
["Danadim Progress ",4641,"2 L","2012-06-07","Läck.Risk i genomsläpplig mark"]
["Danitron 5 SC",4604,"2 L"]
["DAZIDE ENHANCE",5033,"1 L",null,"Läck.Risk i genomsläpplig mark"]
["Delan WG",4218,"2 L"]
["DERREX",4990,"2 L"]
["Diflanil 500 SC",4989,"2 L"]
["Dig-line l",4448]
["Diglyphus system",4152]
["Diqua",5006,"1 L",null,null,null,"Mycket lång halveringstid"]
["Dividend Formula F",4482,"2 L"]
["DU-DIM 48 SC",3962,"2 L"]
["Duplosan DP ",3734,"2 L",null,"Läck.Risk i genomsläpplig mark"]
["Duplosan Super ",4091,"2 L",null,"Läck.Risk i genomsläpplig mark"]
["Eagle WG",4844,"2 L",null,"Läck.Risk i genomsläpplig mark"]
["Eagle WG",4844,"2 L",null,"Läck.Risk i genomsläpplig mark"]
["Electis",4680,"1 L","2012-07-01",null,null,"Bedöms av SANCO att finns potential för läckage till grundvatte i områden med känsliga jordar och klimat."]
["Encar-line f",4452]
["Encarsia system",4158]
["En-strip",4156]
["Entomite",4255]
["Entonem",4379]
["Envision",4490,"2 L"]
["Epok 600 EC",4361,"2 L"]
["Ervipar",4230]
["Ervi-system",4231]
["Ethosat 500 SC",5011,"2 L"]
["Etna",5035,"2 L"]
["Event Super",4222,"2 L"]
["Exemptor 10 GR",4827,"2 L"]
["Express 50 SX",4956,"2 L",null,"Läck.Risk i genomsläpplig mark"]
["Express 50 T",3845,"2 L",null,"Läck.Risk i genomsläpplig mark"]
["Fastac 50",4530,"2 L"]
["Fazor",4683,"2 L"]
["Fenix",4123,"2 L"]
["Feramol Snigel Effekt",4414,3]
["Fiesta T ",4087,"2 L",null,"Läck.Risk i genomsläpplig mark"]
["Finalsan Ogräs Effekt koncentrat Proffs",4659,"2 L"]
["Flexity",4847,"2 L"]
["Flexity",4847]
["Flexity",4847]
["Floramite 240 SC",4832,"2 L"]
["FLOXY",4845,"2 L","2013-12-31",null,"Läck.Risk i genomsläpplig mark"]
["Flurostar 200",5019," 1 L"]
["Flytande MossNIX",4714]
["Focus Ultra",3987,"2 L",null,null,"Läck.Risk i genomsläpplig mark"]
["Forbel 750 EC",3614,"2 L","2012-12-31"]
["Force 20 CS",3993,"1 L"]
["Forester",4808,"2 L"]
["Fox 480 SC",4850,"2 L"]
["Foxtrot",4959,"2 L"]
["Frupica SC",4781,"2 L"]
["Fungazil 100",4699,"2 L"]
["Galera",4975,"2 L",null,"Läck.Risk i genomsläpplig mark"]
["Gallery",3886,"2 L","2012-12-31"]
["Gallery",4978,"2 L"]
["Gaucho WS 70",4288,"2 L"]
["GIBB PLUS FOREST",5040,"2 L"]
["Glyfonova 360 SL",4368,"2 L"]
["Glyfonova Bio",4471,"2 L"]
["Glyfonova Supreme",4879,"2 L"]
["Glyphogan 480 SL",4839,"2 L"]
["Glyphomax",4437,"2 L"]
["Glyphomax Bio",4457,"2 L"]
["Glypro Bio",4753,"2 L"]
["Goliath",4855,"2 L",null,"Läck.Risk i genomsläpplig mark"]
["Goltix SC 700 ",4237,"2 L",null,"Läck.Risk i genomsläpplig mark"]
["Goltix WG ",3297,"2 L",null,"Läck.Risk i genomsläpplig mark"]
["Gratil 75 WG",4232,"2 L",null,"Läck.Risk i genomsläpplig mark"]
["GreenLine Ogräsättika",4072,3]
["Gro-Stop Innovator",4961,"1 L"]
["Harmony 50 SX",4756,"2 L",null,"Läck.Risk i genomsläpplig mark"]
["Harmony Plus 50 T",4178,"2 L",null,"Läck.Risk i genomsläpplig mark"]
["Harmony Plus 50 T",4178,"2 L",null,"Läck.Risk i genomsläpplig mark"]
["Helmstar 75 WG",5030,"2 L"]
["Hormotex 750 ",3247,"2 L",null,"Läck.Risk i genomsläpplig mark"]
["Hussar  ",4679,"2 L",null,"Läck.Risk i genomsläpplig mark"]
["Hussar OD",4852,"2 L",null,"Läck.Risk i genomsläpplig mark"]
["Hylobi Forest",4809,"2 L"]
["Hypoaspis-System",4209]
["Hypo-line m",4498]
["Jablo Glyfosat",4354,"2 L"]
["Jenton",4751,"1 L",null,null,null,"Enligt EFSA saknas riskanalys för en metabolit (BF- 421-7), vilket lett till att SANCO pekar ut grundvatten som ett område att beakta för fenpropimorf i sitt utlåtande"]
["Karate 2,5 WG",4164,"2 L"]
["Karate med Zeon teknologi",4804,"2 L","2012-12-31"]
["Kayak",4980,"2 L"]
["KERB FLO 400",4610,"2 L"]
["K-Obiol EC 25",5014,"1 L"]
["K-Obiol ULV6",5015,"2 L"]
["Kohinor 70 WG",4863,"2 L"]
["Kumulus DF",3022,3]
["Kvick Down Bio",4367,"2 L"]
["Latitude",4766,"2 L"]
["Legacy 500 SC",5002,"2 L"]
["Leimay",4982,"2 L"]
["Lexus 50WG ",4540,"2 L",null,"Läck.Risk i genomsläpplig mark"]
["Logo",4790,"2 L",null,null,"Läck.Risk i genomsläpplig mark"]
["Macro-line c",4451]
["Macrolophus-System",4200]
["MaisTer",4906,"2 L",null,null,"Läck.Risk i genomsläpplig mark"]
["Matrigon ",3273,"2 L","2013-07-01","Läck.Risk i genomsläpplig mark"]
["Matrigon 72 SG",5013,"2 L",null,"Läck.Risk i genomsläpplig mark"]
["Mavrik 2F",4491,"2 L"]
["Maxim 100 FS",4826,"2 L"]
["Maxim TECH",4723,"2 L"]
["MCPA 750  ",3345,"2 L",null,"Läck.Risk i genomsläpplig mark"]
["Mellus-Snyltehveps",4652]
["Merit Forest WG",4605,"2 L"]
["Merit Turf",4803,"2 L"]
["Mesurol 500 SC",4019,"1 L","2013-09-30"]
["Mesurol snigelgift",2412,"2 L","2013-09-30"]
["Miglyphus",4153]
["Milbeknock",4928,"2 L"]
["Minex",4212]
["Minusa",4213]
["Mirador 250 SC",5021,"2 L"]
["Moddus M",4140,"2 L"]
["Mogeton WP",4226,"2 L"]
["Monceren FS 250",4357,"2 L"]
["Monitor ",4304,"2 L",null,"Läck.Risk i genomsläpplig mark"]
["Mospilan SG",4739,"2 L",null,null,"Läck.Risk i genomsläpplig mark"]
["Mycostop",4295]
["NA Glyfosat",5023,"2 L"]
["NemaFelt",4722]
["Neo-Stop L500 HN",4960,"1L"]
["NEU 1181 M",4894,"2 L"]
["NEU 1181 M",4894,"2 L"]
["Nimbus CS ",4669,"2 L",null,"Läck.Risk i genomsläpplig mark"]
["Nissorun",3826,"1 L"]
["Nuance",5012,"2 L",null,"Läck.Risk i genomsläpplig mark"]
["Nufarm MCPA 750 ",3236,"2 L",null,"Läck.Risk i genomsläpplig mark"]
["Ogräsättika teknisk 24%",4073,"2 L"]
["OPTICA Diklorprop 600 ",4347,"2 L","2013-06-01","Läck.Risk i genomsläpplig mark"]
["Optica Trio  ",4309,"2 L","2013-05-01","Läck.Risk i genomsläpplig mark"]
["Orius-System",4271]
["Panoctine 30",3141,"2 L","2013-12-31"]
["Panoctine 400",3752,"2 L","2012-12-31"]
["Panoctine Aqua",4125,"2 L","2013-12-31"]
["Panoctine Plus",3260,"2 L","2012-12-31"]
["Panoctine Plus 400",3726,"2 L","2013-12-31"]
["Phyto-line p",4450]
["Phytoseiulus system",4177]
["Pico 750 WG",5034,"2 L"]
["Pirimor",3815,"1 L","2013-02-01"]
["Platform 40 WG",4772,"2 L"]
["Platform 50 WG",4402,"2 L"]
["Plenum 50 WG",4792,"2 L"]
["Preferal",4550]
["Premis 25 FS",4607,"2 L","2013-02-01"]
["Prestige FS 370",4570,"2 L"]
["Previcur Energy",5046,"2 L"]
["Previcur N",3471,"2 L"]
["Primo Maxx",5004,"2 L"]
["Primus ",4552,"2 L",null,"Läck.Risk i genomsläpplig mark"]
["Proline EC 250",4688,"2 L"]
["Proplant",4655,"2 L"]
["PS Stubbskydd",4726,2]
["Pyramin DF",2545,"2 L"]
["Pyretrum NA Emulsion",4559,"2 L"]
["Quad-Glob 200 SL",5022,"1L",null,null,null,"Mycket lång halveringstid"]
["Ranman",4586,"2 L"]
["Ranman Top",4995,"2 L"]
["Raptol",4759,"2 L"]
["Reglone",3367,"1 L",null,null,null,"Mycket lång halveringstid"]
["Revus",4843,"2 L"]
["Ridomil Gold MZ Pepite",4636,"1 L","2012-06-30",null,null,"Lång halveringstid, Bedöms av SANCO att finns potential för läckage till grundvatte i områden med känsliga jordar och klimat. Framför allt för nedbrytningsprodukterna CGA62826 och CGA108906 kan vara grundvattenkontaminater"]
["Rizolex 50 SC",3823,"2 L"]
["Robust",4691,"2 L","2013-02-01"]
["Rosol",3800,3]
["Rotstop",4290]
["Rotstop E",4623]
["Rotstop S",4622]
["Rotstop V",4624]
["Roundup",3220,"2 L"]
["Roundup Bio",3937,"2 L"]
["Roundup Bioactive",4972,"2 L"]
["Roundup FL 360",4970,"2 L"]
["Roundup FL 540",4971,"2 L"]
["Roundup Gold",4968,"2 L"]
["Roundup Gold ST",4969,"2 L"]
["Roundup Max",4466,"2 L"]
["Roundup Q",4562]
["Roxion 40 EC ",4905,"2 L","2012-06-07","Läck.Risk i genomsläpplig mark"]
["Roxion 40 EC ",4905,"2 L"]
["Safari 50 DF ",4187,"2 L",null,"Läck.Risk i genomsläpplig mark"]
["Scala",4265,"2 L"]
["Select",4376,"2 L"]
["Sencor ",3020,"2 L",null,"Läck.Risk i genomsläpplig mark"]
["Shirlan",3957,"2 L"]
["Sibutol FS 199",4566,"2 L"]
["Signum",4884,"2 L"]
["Signum",4884]
["Sluxx",4893,"2 L"]
["Spidex",4171]
["Spinde-Rovmider",4651]
["Sportak EW",4188,"1 L",null,null,null,"Mycket lång halveringstid"]
["Spotlight 24 EC",4401,"2 L"]
["Spotlight Plus",4851,"2 L"]
["Starane 180 ",3838,"2 L",null,"Läck.Risk i genomsläpplig mark"]
["Starane XL  ",4686,"2 L",null,"Läck.Risk i genomsläpplig mark"]
["Steinernema-System",4380]
["Stereo 312.5 EC",4306,"2 L"]
["Steward 30 WG",4979,"2 L"]
["Stoppar insektslarver",4385]
["Stoppar sorgmyggor",4386]
["Stratego EC 250",4779,"2 L",null,"Läck.Risk i genomsläpplig mark"]
["Sumi-alpha 5 FW",3753,"2 L"]
["Svavelkalkvätska 30 Be°",4637,"1 L","2013-12-31"]
["Switch 62.5 WG",4587,"2 L"]
["Symbol",5037,"2 L"]
["Tachigaren 70 WP",3513,"2 L",null,null,"Läck.Risk i genomsläpplig mark"]
["Taifun 360 SL",5043,"2 L"]
["Tandus 180",4848,"2 L","2013-12-31","Läck.Risk i genomsläpplig mark"]
["Tanos 50 WG",4647,"2 L",null,"Läck.Risk i genomsläpplig mark"]
["Tattoo",3871,"1 L","2013-10-01",null,null,"Bedöms av SANCO att finns potential för läckage till grundvatte i områden med känsliga jordar och klimat."]
["Teldor WG 50",4339,"2 L"]
["TEPPEKI",4966,"2 L",null,"Läck.Risk i genomsläpplig mark"]
["Tern 750 EC",4371,"2 L"]
["Terpal (II)",4579,"2 L"]
["Thripex Plus",4149]
["Thripor",4270]
["Tilt 250 EC",3572,"2 L"]
["Tilt Top 500 EC",3709,"2 L"]
["Titus WSB",4124,"2 L"]
["Tomahawk 180 EC  ",4460,"2 L",null,"Läck.Risk i genomsläpplig mark"]
["Topas 100 EC",3740,"2 L"]
["Topsin WG",4888,"1 L"]
["Totril EC 225",5026,"1 L"]
["Touchdown Premium",4472,"2 L"]
["Trimme 50 SG",5020,"2 L",null,"Läck.Risk i genomsläpplig mark"]
["Trips-Rovmider",4650]
["Tripsrovtaege",4585]
["Turex 50 WP",4492]
["Unix 75 WG",4305,"2 L","2012-12-31"]
["Upstream",4897,"2 L"]
["Warrant 700 WG",4758,"2 L"]
["Vectobac 12 AS",4429]
["Verdys",4752,"2 L"]
["Vertimec",4693,"2 L"]
["Vitavax 200",4281,"2 L","2012-12-31"]

{"sheet":"Bilaga 3","index":3,"n_rows":41,"n_cols":8,"rows_kept":41,"cut":false,"hidden":true,"merged":[[2,1,2,7],[8,7,9,7],[8,1,8,5]]}
["Ansökan om tillstånd",null,null,null,null,null,null,"Bilaga 3"]
[]
["Sökande:",{"$f":"IF(Ansökan!$A$10=0,\"\",Ansökan!$A$10)","v":""}]
[]
["Gröda:"]
[]
["Blanketten är självinstruerande. Flytta musen över blanketten och aktell information visas"]
[]
["Tidpunkt","Preparat",null,null,null,null,"Totaldos","Anteckningar"]
["(Månad)","Preparatnamnamn","Regnr","Klass","Läckagerisk",null,"per hektar"]
[null,null,{"$f":"IF(ISNA(VLOOKUP(B11,Preparat!$A$2:$E$322,2,FALSE)),\"\",VLOOKUP(B11,Preparat!$A$2:$E$322,2))","v":""},{"$f":"IF(IF(ISNA(VLOOKUP(B11,Preparat!$A$2:$E$322,3,FALSE)),\"\",VLOOKUP(B11,Preparat!$A$2:$E$322,3))=0,\"\",IF(ISNA(VLOOKUP(B11,Preparat!$A$2:$E$322,3,FALSE)),\"\",VLOOKUP(B11,Preparat!$A$2:$E$322,3)))","v":""},{"$f":"IF(IF(ISNA(VLOOKUP(B11,Preparat!$A$2:$E$9998,5,FALSE)),\"\",VLOOKUP(B11,Preparat!$A$2:$E$9998,5))=0,\"\",IF(ISNA(VLOOKUP(B11,Preparat!$A$2:$E$9998,5,FALSE)),\"\",VLOOKUP(B11,Preparat!$A$2:$E$9998,5)))","v":""},{"$f":"IF(IF(ISNA(VLOOKUP(B11,Preparat!$A$2:$E$322,4,FALSE)),\"\",VLOOKUP(B11,Preparat!$A$2:$E$322,4))<1901-1-1,\"\",IF(ISNA(VLOOKUP(B11,Preparat!$A$2:$E$322,4,FALSE)),\"\",VLOOKUP(B11,Preparat!$A$2:$E$322,4)))","v":""}]
[null,null,{"$f":"IF(ISNA(VLOOKUP(B12,Preparat!$A$2:$E$322,2,FALSE)),\"\",VLOOKUP(B12,Preparat!$A$2:$E$322,2))","v":""},{"$f":"IF(IF(ISNA(VLOOKUP(B12,Preparat!$A$2:$E$322,3,FALSE)),\"\",VLOOKUP(B12,Preparat!$A$2:$E$322,3))=0,\"\",IF(ISNA(VLOOKUP(B12,Preparat!$A$2:$E$322,3,FALSE)),\"\",VLOOKUP(B12,Preparat!$A$2:$E$322,3)))","v":""},{"$f":"IF(IF(ISNA(VLOOKUP(B12,Preparat!$A$2:$E$9998,5,FALSE)),\"\",VLOOKUP(B12,Preparat!$A$2:$E$9998,5))=0,\"\",IF(ISNA(VLOOKUP(B12,Preparat!$A$2:$E$9998,5,FALSE)),\"\",VLOOKUP(B12,Preparat!$A$2:$E$9998,5)))","v":""},{"$f":"IF(IF(ISNA(VLOOKUP(B12,Preparat!$A$2:$E$322,4,FALSE)),\"\",VLOOKUP(B12,Preparat!$A$2:$E$322,4))<1901-1-1,\"\",IF(ISNA(VLOOKUP(B12,Preparat!$A$2:$E$322,4,FALSE)),\"\",VLOOKUP(B12,Preparat!$A$2:$E$322,4)))","v":""}]
[null,null,{"$f":"IF(ISNA(VLOOKUP(B13,Preparat!$A$2:$E$322,2,FALSE)),\"\",VLOOKUP(B13,Preparat!$A$2:$E$322,2))","v":""},{"$f":"IF(IF(ISNA(VLOOKUP(B13,Preparat!$A$2:$E$322,3,FALSE)),\"\",VLOOKUP(B13,Preparat!$A$2:$E$322,3))=0,\"\",IF(ISNA(VLOOKUP(B13,Preparat!$A$2:$E$322,3,FALSE)),\"\",VLOOKUP(B13,Preparat!$A$2:$E$322,3)))","v":""},{"$f":"IF(IF(ISNA(VLOOKUP(B13,Preparat!$A$2:$E$9998,5,FALSE)),\"\",VLOOKUP(B13,Preparat!$A$2:$E$9998,5))=0,\"\",IF(ISNA(VLOOKUP(B13,Preparat!$A$2:$E$9998,5,FALSE)),\"\",VLOOKUP(B13,Preparat!$A$2:$E$9998,5)))","v":""},{"$f":"IF(IF(ISNA(VLOOKUP(B13,Preparat!$A$2:$E$322,4,FALSE)),\"\",VLOOKUP(B13,Preparat!$A$2:$E$322,4))<1901-1-1,\"\",IF(ISNA(VLOOKUP(B13,Preparat!$A$2:$E$322,4,FALSE)),\"\",VLOOKUP(B13,Preparat!$A$2:$E$322,4)))","v":""}]
[null,null,{"$f":"IF(ISNA(VLOOKUP(B14,Preparat!$A$2:$E$322,2,FALSE)),\"\",VLOOKUP(B14,Preparat!$A$2:$E$322,2))","v":""},{"$f":"IF(IF(ISNA(VLOOKUP(B14,Preparat!$A$2:$E$322,3,FALSE)),\"\",VLOOKUP(B14,Preparat!$A$2:$E$322,3))=0,\"\",IF(ISNA(VLOOKUP(B14,Preparat!$A$2:$E$322,3,FALSE)),\"\",VLOOKUP(B14,Preparat!$A$2:$E$322,3)))","v":""},{"$f":"IF(IF(ISNA(VLOOKUP(B14,Preparat!$A$2:$E$9998,5,FALSE)),\"\",VLOOKUP(B14,Preparat!$A$2:$E$9998,5))=0,\"\",IF(ISNA(VLOOKUP(B14,Preparat!$A$2:$E$9998,5,FALSE)),\"\",VLOOKUP(B14,Preparat!$A$2:$E$9998,5)))","v":""},{"$f":"IF(IF(ISNA(VLOOKUP(B14,Preparat!$A$2:$E$322,4,FALSE)),\"\",VLOOKUP(B14,Preparat!$A$2:$E$322,4))<1901-1-1,\"\",IF(ISNA(VLOOKUP(B14,Preparat!$A$2:$E$322,4,FALSE)),\"\",VLOOKUP(B14,Preparat!$A$2:$E$322,4)))","v":""}]
[null,null,{"$f":"IF(ISNA(VLOOKUP(B15,Preparat!$A$2:$E$322,2,FALSE)),\"\",VLOOKUP(B15,Preparat!$A$2:$E$322,2))","v":""},{"$f":"IF(IF(ISNA(VLOOKUP(B15,Preparat!$A$2:$E$322,3,FALSE)),\"\",VLOOKUP(B15,Preparat!$A$2:$E$322,3))=0,\"\",IF(ISNA(VLOOKUP(B15,Preparat!$A$2:$E$322,3,FALSE)),\"\",VLOOKUP(B15,Preparat!$A$2:$E$322,3)))","v":""},{"$f":"IF(IF(ISNA(VLOOKUP(B15,Preparat!$A$2:$E$9998,5,FALSE)),\"\",VLOOKUP(B15,Preparat!$A$2:$E$9998,5))=0,\"\",IF(ISNA(VLOOKUP(B15,Preparat!$A$2:$E$9998,5,FALSE)),\"\",VLOOKUP(B15,Preparat!$A$2:$E$9998,5)))","v":""},{"$f":"IF(IF(ISNA(VLOOKUP(B15,Preparat!$A$2:$E$322,4,FALSE)),\"\",VLOOKUP(B15,Preparat!$A$2:$E$322,4))<1901-1-1,\"\",IF(ISNA(VLOOKUP(B15,Preparat!$A$2:$E$322,4,FALSE)),\"\",VLOOKUP(B15,Preparat!$A$2:$E$322,4)))","v":""}]
[null,null,{"$f":"IF(ISNA(VLOOKUP(B16,Preparat!$A$2:$E$322,2,FALSE)),\"\",VLOOKUP(B16,Preparat!$A$2:$E$322,2))","v":""},{"$f":"IF(IF(ISNA(VLOOKUP(B16,Preparat!$A$2:$E$322,3,FALSE)),\"\",VLOOKUP(B16,Preparat!$A$2:$E$322,3))=0,\"\",IF(ISNA(VLOOKUP(B16,Preparat!$A$2:$E$322,3,FALSE)),\"\",VLOOKUP(B16,Preparat!$A$2:$E$322,3)))","v":""},{"$f":"IF(IF(ISNA(VLOOKUP(B16,Preparat!$A$2:$E$9998,5,FALSE)),\"\",VLOOKUP(B16,Preparat!$A$2:$E$9998,5))=0,\"\",IF(ISNA(VLOOKUP(B16,Preparat!$A$2:$E$9998,5,FALSE)),\"\",VLOOKUP(B16,Preparat!$A$2:$E$9998,5)))","v":""},{"$f":"IF(IF(ISNA(VLOOKUP(B16,Preparat!$A$2:$E$322,4,FALSE)),\"\",VLOOKUP(B16,Preparat!$A$2:$E$322,4))<1901-1-1,\"\",IF(ISNA(VLOOKUP(B16,Preparat!$A$2:$E$322,4,FALSE)),\"\",VLOOKUP(B16,Preparat!$A$2:$E$322,4)))","v":""}]
[null,null,{"$f":"IF(ISNA(VLOOKUP(B17,Preparat!$A$2:$E$322,2,FALSE)),\"\",VLOOKUP(B17,Preparat!$A$2:$E$322,2))","v":""},{"$f":"IF(IF(ISNA(VLOOKUP(B17,Preparat!$A$2:$E$322,3,FALSE)),\"\",VLOOKUP(B17,Preparat!$A$2:$E$322,3))=0,\"\",IF(ISNA(VLOOKUP(B17,Preparat!$A$2:$E$322,3,FALSE)),\"\",VLOOKUP(B17,Preparat!$A$2:$E$322,3)))","v":""},{"$f":"IF(IF(ISNA(VLOOKUP(B17,Preparat!$A$2:$E$9998,5,FALSE)),\"\",VLOOKUP(B17,Preparat!$A$2:$E$9998,5))=0,\"\",IF(ISNA(VLOOKUP(B17,Preparat!$A$2:$E$9998,5,FALSE)),\"\",VLOOKUP(B17,Preparat!$A$2:$E$9998,5)))","v":""},{"$f":"IF(IF(ISNA(VLOOKUP(B17,Preparat!$A$2:$E$322,4,FALSE)),\"\",VLOOKUP(B17,Preparat!$A$2:$E$322,4))<1901-1-1,\"\",IF(ISNA(VLOOKUP(B17,Preparat!$A$2:$E$322,4,FALSE)),\"\",VLOOKUP(B17,Preparat!$A$2:$E$322,4)))","v":""}]
[null,null,{"$f":"IF(ISNA(VLOOKUP(B18,Preparat!$A$2:$E$322,2,FALSE)),\"\",VLOOKUP(B18,Preparat!$A$2:$E$322,2))","v":""},{"$f":"IF(IF(ISNA(VLOOKUP(B18,Preparat!$A$2:$E$322,3,FALSE)),\"\",VLOOKUP(B18,Preparat!$A$2:$E$322,3))=0,\"\",IF(ISNA(VLOOKUP(B18,Preparat!$A$2:$E$322,3,FALSE)),\"\",VLOOKUP(B18,Preparat!$A$2:$E$322,3)))","v":""},{"$f":"IF(IF(ISNA(VLOOKUP(B18,Preparat!$A$2:$E$9998,5,FALSE)),\"\",VLOOKUP(B18,Preparat!$A$2:$E$9998,5))=0,\"\",IF(ISNA(VLOOKUP(B18,Preparat!$A$2:$E$9998,5,FALSE)),\"\",VLOOKUP(B18,Preparat!$A$2:$E$9998,5)))","v":""},{"$f":"IF(IF(ISNA(VLOOKUP(B18,Preparat!$A$2:$E$322,4,FALSE)),\"\",VLOOKUP(B18,Preparat!$A$2:$E$322,4))<1901-1-1,\"\",IF(ISNA(VLOOKUP(B18,Preparat!$A$2:$E$322,4,FALSE)),\"\",VLOOKUP(B18,Preparat!$A$2:$E$322,4)))","v":""}]
[null,null,{"$f":"IF(ISNA(VLOOKUP(B19,Preparat!$A$2:$E$322,2,FALSE)),\"\",VLOOKUP(B19,Preparat!$A$2:$E$322,2))","v":""},{"$f":"IF(IF(ISNA(VLOOKUP(B19,Preparat!$A$2:$E$322,3,FALSE)),\"\",VLOOKUP(B19,Preparat!$A$2:$E$322,3))=0,\"\",IF(ISNA(VLOOKUP(B19,Preparat!$A$2:$E$322,3,FALSE)),\"\",VLOOKUP(B19,Preparat!$A$2:$E$322,3)))","v":""},{"$f":"IF(IF(ISNA(VLOOKUP(B19,Preparat!$A$2:$E$9998,5,FALSE)),\"\",VLOOKUP(B19,Preparat!$A$2:$E$9998,5))=0,\"\",IF(ISNA(VLOOKUP(B19,Preparat!$A$2:$E$9998,5,FALSE)),\"\",VLOOKUP(B19,Preparat!$A$2:$E$9998,5)))","v":""},{"$f":"IF(IF(ISNA(VLOOKUP(B19,Preparat!$A$2:$E$322,4,FALSE)),\"\",VLOOKUP(B19,Preparat!$A$2:$E$322,4))<1901-1-1,\"\",IF(ISNA(VLOOKUP(B19,Preparat!$A$2:$E$322,4,FALSE)),\"\",VLOOKUP(B19,Preparat!$A$2:$E$322,4)))","v":""}]
[null,null,{"$f":"IF(ISNA(VLOOKUP(B20,Preparat!$A$2:$E$322,2,FALSE)),\"\",VLOOKUP(B20,Preparat!$A$2:$E$322,2))","v":""},{"$f":"IF(IF(ISNA(VLOOKUP(B20,Preparat!$A$2:$E$322,3,FALSE)),\"\",VLOOKUP(B20,Preparat!$A$2:$E$322,3))=0,\"\",IF(ISNA(VLOOKUP(B20,Preparat!$A$2:$E$322,3,FALSE)),\"\",VLOOKUP(B20,Preparat!$A$2:$E$322,3)))","v":""},{"$f":"IF(IF(ISNA(VLOOKUP(B20,Preparat!$A$2:$E$9998,5,FALSE)),\"\",VLOOKUP(B20,Preparat!$A$2:$E$9998,5))=0,\"\",IF(ISNA(VLOOKUP(B20,Preparat!$A$2:$E$9998,5,FALSE)),\"\",VLOOKUP(B20,Preparat!$A$2:$E$9998,5)))","v":""},{"$f":"IF(IF(ISNA(VLOOKUP(B20,Preparat!$A$2:$E$322,4,FALSE)),\"\",VLOOKUP(B20,Preparat!$A$2:$E$322,4))<1901-1-1,\"\",IF(ISNA(VLOOKUP(B20,Preparat!$A$2:$E$322,4,FALSE)),\"\",VLOOKUP(B20,Preparat!$A$2:$E$322,4)))","v":""}]
[null,null,{"$f":"IF(ISNA(VLOOKUP(B21,Preparat!$A$2:$E$322,2,FALSE)),\"\",VLOOKUP(B21,Preparat!$A$2:$E$322,2))","v":""},{"$f":"IF(IF(ISNA(VLOOKUP(B21,Preparat!$A$2:$E$322,3,FALSE)),\"\",VLOOKUP(B21,Preparat!$A$2:$E$322,3))=0,\"\",IF(ISNA(VLOOKUP(B21,Preparat!$A$2:$E$322,3,FALSE)),\"\",VLOOKUP(B21,Preparat!$A$2:$E$322,3)))","v":""},{"$f":"IF(IF(ISNA(VLOOKUP(B21,Preparat!$A$2:$E$9998,5,FALSE)),\"\",VLOOKUP(B21,Preparat!$A$2:$E$9998,5))=0,\"\",IF(ISNA(VLOOKUP(B21,Preparat!$A$2:$E$9998,5,FALSE)),\"\",VLOOKUP(B21,Preparat!$A$2:$E$9998,5)))","v":""},{"$f":"IF(IF(ISNA(VLOOKUP(B21,Preparat!$A$2:$E$322,4,FALSE)),\"\",VLOOKUP(B21,Preparat!$A$2:$E$322,4))<1901-1-1,\"\",IF(ISNA(VLOOKUP(B21,Preparat!$A$2:$E$322,4,FALSE)),\"\",VLOOKUP(B21,Preparat!$A$2:$E$322,4)))","v":""}]
[null,null,{"$f":"IF(ISNA(VLOOKUP(B22,Preparat!$A$2:$E$322,2,FALSE)),\"\",VLOOKUP(B22,Preparat!$A$2:$E$322,2))","v":""},{"$f":"IF(IF(ISNA(VLOOKUP(B22,Preparat!$A$2:$E$322,3,FALSE)),\"\",VLOOKUP(B22,Preparat!$A$2:$E$322,3))=0,\"\",IF(ISNA(VLOOKUP(B22,Preparat!$A$2:$E$322,3,FALSE)),\"\",VLOOKUP(B22,Preparat!$A$2:$E$322,3)))","v":""},{"$f":"IF(IF(ISNA(VLOOKUP(B22,Preparat!$A$2:$E$9998,5,FALSE)),\"\",VLOOKUP(B22,Preparat!$A$2:$E$9998,5))=0,\"\",IF(ISNA(VLOOKUP(B22,Preparat!$A$2:$E$9998,5,FALSE)),\"\",VLOOKUP(B22,Preparat!$A$2:$E$9998,5)))","v":""},{"$f":"IF(IF(ISNA(VLOOKUP(B22,Preparat!$A$2:$E$322,4,FALSE)),\"\",VLOOKUP(B22,Preparat!$A$2:$E$322,4))<1901-1-1,\"\",IF(ISNA(VLOOKUP(B22,Preparat!$A$2:$E$322,4,FALSE)),\"\",VLOOKUP(B22,Preparat!$A$2:$E$322,4)))","v":""}]
[null,null,{"$f":"IF(ISNA(VLOOKUP(B23,Preparat!$A$2:$E$322,2,FALSE)),\"\",VLOOKUP(B23,Preparat!$A$2:$E$322,2))","v":""},{"$f":"IF(IF(ISNA(VLOOKUP(B23,Preparat!$A$2:$E$322,3,FALSE)),\"\",VLOOKUP(B23,Preparat!$A$2:$E$322,3))=0,\"\",IF(ISNA(VLOOKUP(B23,Preparat!$A$2:$E$322,3,FALSE)),\"\",VLOOKUP(B23,Preparat!$A$2:$E$322,3)))","v":""},{"$f":"IF(IF(ISNA(VLOOKUP(B23,Preparat!$A$2:$E$9998,5,FALSE)),\"\",VLOOKUP(B23,Preparat!$A$2:$E$9998,5))=0,\"\",IF(ISNA(VLOOKUP(B23,Preparat!$A$2:$E$9998,5,FALSE)),\"\",VLOOKUP(B23,Preparat!$A$2:$E$9998,5)))","v":""},{"$f":"IF(IF(ISNA(VLOOKUP(B23,Preparat!$A$2:$E$322,4,FALSE)),\"\",VLOOKUP(B23,Preparat!$A$2:$E$322,4))<1901-1-1,\"\",IF(ISNA(VLOOKUP(B23,Preparat!$A$2:$E$322,4,FALSE)),\"\",VLOOKUP(B23,Preparat!$A$2:$E$322,4)))","v":""}]
[null,null,{"$f":"IF(ISNA(VLOOKUP(B24,Preparat!$A$2:$E$322,2,FALSE)),\"\",VLOOKUP(B24,Preparat!$A$2:$E$322,2))","v":""},{"$f":"IF(IF(ISNA(VLOOKUP(B24,Preparat!$A$2:$E$322,3,FALSE)),\"\",VLOOKUP(B24,Preparat!$A$2:$E$322,3))=0,\"\",IF(ISNA(VLOOKUP(B24,Preparat!$A$2:$E$322,3,FALSE)),\"\",VLOOKUP(B24,Preparat!$A$2:$E$322,3)))","v":""},{"$f":"IF(IF(ISNA(VLOOKUP(B24,Preparat!$A$2:$E$9998,5,FALSE)),\"\",VLOOKUP(B24,Preparat!$A$2:$E$9998,5))=0,\"\",IF(ISNA(VLOOKUP(B24,Preparat!$A$2:$E$9998,5,FALSE)),\"\",VLOOKUP(B24,Preparat!$A$2:$E$9998,5)))","v":""},{"$f":"IF(IF(ISNA(VLOOKUP(B24,Preparat!$A$2:$E$322,4,FALSE)),\"\",VLOOKUP(B24,Preparat!$A$2:$E$322,4))<1901-1-1,\"\",IF(ISNA(VLOOKUP(B24,Preparat!$A$2:$E$322,4,FALSE)),\"\",VLOOKUP(B24,Preparat!$A$2:$E$322,4)))","v":""}]
[null,null,{"$f":"IF(ISNA(VLOOKUP(B25,Preparat!$A$2:$E$322,2,FALSE)),\"\",VLOOKUP(B25,Preparat!$A$2:$E$322,2))","v":""},{"$f":"IF(IF(ISNA(VLOOKUP(B25,Preparat!$A$2:$E$322,3,FALSE)),\"\",VLOOKUP(B25,Preparat!$A$2:$E$322,3))=0,\"\",IF(ISNA(VLOOKUP(B25,Preparat!$A$2:$E$322,3,FALSE)),\"\",VLOOKUP(B25,Preparat!$A$2:$E$322,3)))","v":""},{"$f":"IF(IF(ISNA(VLOOKUP(B25,Preparat!$A$2:$E$9998,5,FALSE)),\"\",VLOOKUP(B25,Preparat!$A$2:$E$9998,5))=0,\"\",IF(ISNA(VLOOKUP(B25,Preparat!$A$2:$E$9998,5,FALSE)),\"\",VLOOKUP(B25,Preparat!$A$2:$E$9998,5)))","v":""},{"$f":"IF(IF(ISNA(VLOOKUP(B25,Preparat!$A$2:$E$322,4,FALSE)),\"\",VLOOKUP(B25,Preparat!$A$2:$E$322,4))<1901-1-1,\"\",IF(ISNA(VLOOKUP(B25,Preparat!$A$2:$E$322,4,FALSE)),\"\",VLOOKUP(B25,Preparat!$A$2:$E$322,4)))","v":""}]
[null,null,{"$f":"IF(ISNA(VLOOKUP(B26,Preparat!$A$2:$E$322,2,FALSE)),\"\",VLOOKUP(B26,Preparat!$A$2:$E$322,2))","v":""},{"$f":"IF(IF(ISNA(VLOOKUP(B26,Preparat!$A$2:$E$322,3,FALSE)),\"\",VLOOKUP(B26,Preparat!$A$2:$E$322,3))=0,\"\",IF(ISNA(VLOOKUP(B26,Preparat!$A$2:$E$322,3,FALSE)),\"\",VLOOKUP(B26,Preparat!$A$2:$E$322,3)))","v":""},{"$f":"IF(IF(ISNA(VLOOKUP(B26,Preparat!$A$2:$E$9998,5,FALSE)),\"\",VLOOKUP(B26,Preparat!$A$2:$E$9998,5))=0,\"\",IF(ISNA(VLOOKUP(B26,Preparat!$A$2:$E$9998,5,FALSE)),\"\",VLOOKUP(B26,Preparat!$A$2:$E$9998,5)))","v":""},{"$f":"IF(IF(ISNA(VLOOKUP(B26,Preparat!$A$2:$E$322,4,FALSE)),\"\",VLOOKUP(B26,Preparat!$A$2:$E$322,4))<1901-1-1,\"\",IF(ISNA(VLOOKUP(B26,Preparat!$A$2:$E$322,4,FALSE)),\"\",VLOOKUP(B26,Preparat!$A$2:$E$322,4)))","v":""}]
[null,null,{"$f":"IF(ISNA(VLOOKUP(B27,Preparat!$A$2:$E$322,2,FALSE)),\"\",VLOOKUP(B27,Preparat!$A$2:$E$322,2))","v":""},{"$f":"IF(IF(ISNA(VLOOKUP(B27,Preparat!$A$2:$E$322,3,FALSE)),\"\",VLOOKUP(B27,Preparat!$A$2:$E$322,3))=0,\"\",IF(ISNA(VLOOKUP(B27,Preparat!$A$2:$E$322,3,FALSE)),\"\",VLOOKUP(B27,Preparat!$A$2:$E$322,3)))","v":""},{"$f":"IF(IF(ISNA(VLOOKUP(B27,Preparat!$A$2:$E$9998,5,FALSE)),\"\",VLOOKUP(B27,Preparat!$A$2:$E$9998,5))=0,\"\",IF(ISNA(VLOOKUP(B27,Preparat!$A$2:$E$9998,5,FALSE)),\"\",VLOOKUP(B27,Preparat!$A$2:$E$9998,5)))","v":""},{"$f":"IF(IF(ISNA(VLOOKUP(B27,Preparat!$A$2:$E$322,4,FALSE)),\"\",VLOOKUP(B27,Preparat!$A$2:$E$322,4))<1901-1-1,\"\",IF(ISNA(VLOOKUP(B27,Preparat!$A$2:$E$322,4,FALSE)),\"\",VLOOKUP(B27,Preparat!$A$2:$E$322,4)))","v":""}]
[null,null,{"$f":"IF(ISNA(VLOOKUP(B28,Preparat!$A$2:$E$322,2,FALSE)),\"\",VLOOKUP(B28,Preparat!$A$2:$E$322,2))","v":""},{"$f":"IF(IF(ISNA(VLOOKUP(B28,Preparat!$A$2:$E$322,3,FALSE)),\"\",VLOOKUP(B28,Preparat!$A$2:$E$322,3))=0,\"\",IF(ISNA(VLOOKUP(B28,Preparat!$A$2:$E$322,3,FALSE)),\"\",VLOOKUP(B28,Preparat!$A$2:$E$322,3)))","v":""},{"$f":"IF(IF(ISNA(VLOOKUP(B28,Preparat!$A$2:$E$9998,5,FALSE)),\"\",VLOOKUP(B28,Preparat!$A$2:$E$9998,5))=0,\"\",IF(ISNA(VLOOKUP(B28,Preparat!$A$2:$E$9998,5,FALSE)),\"\",VLOOKUP(B28,Preparat!$A$2:$E$9998,5)))","v":""},{"$f":"IF(IF(ISNA(VLOOKUP(B28,Preparat!$A$2:$E$322,4,FALSE)),\"\",VLOOKUP(B28,Preparat!$A$2:$E$322,4))<1901-1-1,\"\",IF(ISNA(VLOOKUP(B28,Preparat!$A$2:$E$322,4,FALSE)),\"\",VLOOKUP(B28,Preparat!$A$2:$E$322,4)))","v":""}]
[null,null,{"$f":"IF(ISNA(VLOOKUP(B29,Preparat!$A$2:$E$322,2,FALSE)),\"\",VLOOKUP(B29,Preparat!$A$2:$E$322,2))","v":""},{"$f":"IF(IF(ISNA(VLOOKUP(B29,Preparat!$A$2:$E$322,3,FALSE)),\"\",VLOOKUP(B29,Preparat!$A$2:$E$322,3))=0,\"\",IF(ISNA(VLOOKUP(B29,Preparat!$A$2:$E$322,3,FALSE)),\"\",VLOOKUP(B29,Preparat!$A$2:$E$322,3)))","v":""},{"$f":"IF(IF(ISNA(VLOOKUP(B29,Preparat!$A$2:$E$9998,5,FALSE)),\"\",VLOOKUP(B29,Preparat!$A$2:$E$9998,5))=0,\"\",IF(ISNA(VLOOKUP(B29,Preparat!$A$2:$E$9998,5,FALSE)),\"\",VLOOKUP(B29,Preparat!$A$2:$E$9998,5)))","v":""},{"$f":"IF(IF(ISNA(VLOOKUP(B29,Preparat!$A$2:$E$322,4,FALSE)),\"\",VLOOKUP(B29,Preparat!$A$2:$E$322,4))<1901-1-1,\"\",IF(ISNA(VLOOKUP(B29,Preparat!$A$2:$E$322,4,FALSE)),\"\",VLOOKUP(B29,Preparat!$A$2:$E$322,4)))","v":""}]
[null,null,{"$f":"IF(ISNA(VLOOKUP(B30,Preparat!$A$2:$E$322,2,FALSE)),\"\",VLOOKUP(B30,Preparat!$A$2:$E$322,2))","v":""},{"$f":"IF(IF(ISNA(VLOOKUP(B30,Preparat!$A$2:$E$322,3,FALSE)),\"\",VLOOKUP(B30,Preparat!$A$2:$E$322,3))=0,\"\",IF(ISNA(VLOOKUP(B30,Preparat!$A$2:$E$322,3,FALSE)),\"\",VLOOKUP(B30,Preparat!$A$2:$E$322,3)))","v":""},{"$f":"IF(IF(ISNA(VLOOKUP(B30,Preparat!$A$2:$E$9998,5,FALSE)),\"\",VLOOKUP(B30,Preparat!$A$2:$E$9998,5))=0,\"\",IF(ISNA(VLOOKUP(B30,Preparat!$A$2:$E$9998,5,FALSE)),\"\",VLOOKUP(B30,Preparat!$A$2:$E$9998,5)))","v":""},{"$f":"IF(IF(ISNA(VLOOKUP(B30,Preparat!$A$2:$E$322,4,FALSE)),\"\",VLOOKUP(B30,Preparat!$A$2:$E$322,4))<1901-1-1,\"\",IF(ISNA(VLOOKUP(B30,Preparat!$A$2:$E$322,4,FALSE)),\"\",VLOOKUP(B30,Preparat!$A$2:$E$322,4)))","v":""}]
[null,null,{"$f":"IF(ISNA(VLOOKUP(B31,Preparat!$A$2:$E$322,2,FALSE)),\"\",VLOOKUP(B31,Preparat!$A$2:$E$322,2))","v":""},{"$f":"IF(IF(ISNA(VLOOKUP(B31,Preparat!$A$2:$E$322,3,FALSE)),\"\",VLOOKUP(B31,Preparat!$A$2:$E$322,3))=0,\"\",IF(ISNA(VLOOKUP(B31,Preparat!$A$2:$E$322,3,FALSE)),\"\",VLOOKUP(B31,Preparat!$A$2:$E$322,3)))","v":""},{"$f":"IF(IF(ISNA(VLOOKUP(B31,Preparat!$A$2:$E$9998,5,FALSE)),\"\",VLOOKUP(B31,Preparat!$A$2:$E$9998,5))=0,\"\",IF(ISNA(VLOOKUP(B31,Preparat!$A$2:$E$9998,5,FALSE)),\"\",VLOOKUP(B31,Preparat!$A$2:$E$9998,5)))","v":""},{"$f":"IF(IF(ISNA(VLOOKUP(B31,Preparat!$A$2:$E$322,4,FALSE)),\"\",VLOOKUP(B31,Preparat!$A$2:$E$322,4))<1901-1-1,\"\",IF(ISNA(VLOOKUP(B31,Preparat!$A$2:$E$322,4,FALSE)),\"\",VLOOKUP(B31,Preparat!$A$2:$E$322,4)))","v":""}]
[null,null,{"$f":"IF(ISNA(VLOOKUP(B32,Preparat!$A$2:$E$322,2,FALSE)),\"\",VLOOKUP(B32,Preparat!$A$2:$E$322,2))","v":""},{"$f":"IF(IF(ISNA(VLOOKUP(B32,Preparat!$A$2:$E$322,3,FALSE)),\"\",VLOOKUP(B32,Preparat!$A$2:$E$322,3))=0,\"\",IF(ISNA(VLOOKUP(B32,Preparat!$A$2:$E$322,3,FALSE)),\"\",VLOOKUP(B32,Preparat!$A$2:$E$322,3)))","v":""},{"$f":"IF(IF(ISNA(VLOOKUP(B32,Preparat!$A$2:$E$9998,5,FALSE)),\"\",VLOOKUP(B32,Preparat!$A$2:$E$9998,5))=0,\"\",IF(ISNA(VLOOKUP(B32,Preparat!$A$2:$E$9998,5,FALSE)),\"\",VLOOKUP(B32,Preparat!$A$2:$E$9998,5)))","v":""},{"$f":"IF(IF(ISNA(VLOOKUP(B32,Preparat!$A$2:$E$322,4,FALSE)),\"\",VLOOKUP(B32,Preparat!$A$2:$E$322,4))<1901-1-1,\"\",IF(ISNA(VLOOKUP(B32,Preparat!$A$2:$E$322,4,FALSE)),\"\",VLOOKUP(B32,Preparat!$A$2:$E$322,4)))","v":""}]
[null,null,{"$f":"IF(ISNA(VLOOKUP(B33,Preparat!$A$2:$E$322,2,FALSE)),\"\",VLOOKUP(B33,Preparat!$A$2:$E$322,2))","v":""},{"$f":"IF(IF(ISNA(VLOOKUP(B33,Preparat!$A$2:$E$322,3,FALSE)),\"\",VLOOKUP(B33,Preparat!$A$2:$E$322,3))=0,\"\",IF(ISNA(VLOOKUP(B33,Preparat!$A$2:$E$322,3,FALSE)),\"\",VLOOKUP(B33,Preparat!$A$2:$E$322,3)))","v":""},{"$f":"IF(IF(ISNA(VLOOKUP(B33,Preparat!$A$2:$E$9998,5,FALSE)),\"\",VLOOKUP(B33,Preparat!$A$2:$E$9998,5))=0,\"\",IF(ISNA(VLOOKUP(B33,Preparat!$A$2:$E$9998,5,FALSE)),\"\",VLOOKUP(B33,Preparat!$A$2:$E$9998,5)))","v":""},{"$f":"IF(IF(ISNA(VLOOKUP(B33,Preparat!$A$2:$E$322,4,FALSE)),\"\",VLOOKUP(B33,Preparat!$A$2:$E$322,4))<1901-1-1,\"\",IF(ISNA(VLOOKUP(B33,Preparat!$A$2:$E$322,4,FALSE)),\"\",VLOOKUP(B33,Preparat!$A$2:$E$322,4)))","v":""}]
[null,null,{"$f":"IF(ISNA(VLOOKUP(B34,Preparat!$A$2:$E$322,2,FALSE)),\"\",VLOOKUP(B34,Preparat!$A$2:$E$322,2))","v":""},{"$f":"IF(IF(ISNA(VLOOKUP(B34,Preparat!$A$2:$E$322,3,FALSE)),\"\",VLOOKUP(B34,Preparat!$A$2:$E$322,3))=0,\"\",IF(ISNA(VLOOKUP(B34,Preparat!$A$2:$E$322,3,FALSE)),\"\",VLOOKUP(B34,Preparat!$A$2:$E$322,3)))","v":""},{"$f":"IF(IF(ISNA(VLOOKUP(B34,Preparat!$A$2:$E$9998,5,FALSE)),\"\",VLOOKUP(B34,Preparat!$A$2:$E$9998,5))=0,\"\",IF(ISNA(VLOOKUP(B34,Preparat!$A$2:$E$9998,5,FALSE)),\"\",VLOOKUP(B34,Preparat!$A$2:$E$9998,5)))","v":""},{"$f":"IF(IF(ISNA(VLOOKUP(B34,Preparat!$A$2:$E$322,4,FALSE)),\"\",VLOOKUP(B34,Preparat!$A$2:$E$322,4))<1901-1-1,\"\",IF(ISNA(VLOOKUP(B34,Preparat!$A$2:$E$322,4,FALSE)),\"\",VLOOKUP(B34,Preparat!$A$2:$E$322,4)))","v":""}]
[null,null,{"$f":"IF(ISNA(VLOOKUP(B35,Preparat!$A$2:$E$322,2,FALSE)),\"\",VLOOKUP(B35,Preparat!$A$2:$E$322,2))","v":""},{"$f":"IF(IF(ISNA(VLOOKUP(B35,Preparat!$A$2:$E$322,3,FALSE)),\"\",VLOOKUP(B35,Preparat!$A$2:$E$322,3))=0,\"\",IF(ISNA(VLOOKUP(B35,Preparat!$A$2:$E$322,3,FALSE)),\"\",VLOOKUP(B35,Preparat!$A$2:$E$322,3)))","v":""},{"$f":"IF(IF(ISNA(VLOOKUP(B35,Preparat!$A$2:$E$9998,5,FALSE)),\"\",VLOOKUP(B35,Preparat!$A$2:$E$9998,5))=0,\"\",IF(ISNA(VLOOKUP(B35,Preparat!$A$2:$E$9998,5,FALSE)),\"\",VLOOKUP(B35,Preparat!$A$2:$E$9998,5)))","v":""},{"$f":"IF(IF(ISNA(VLOOKUP(B35,Preparat!$A$2:$E$322,4,FALSE)),\"\",VLOOKUP(B35,Preparat!$A$2:$E$322,4))<1901-1-1,\"\",IF(ISNA(VLOOKUP(B35,Preparat!$A$2:$E$322,4,FALSE)),\"\",VLOOKUP(B35,Preparat!$A$2:$E$322,4)))","v":""}]
[null,null,{"$f":"IF(ISNA(VLOOKUP(B36,Preparat!$A$2:$E$322,2,FALSE)),\"\",VLOOKUP(B36,Preparat!$A$2:$E$322,2))","v":""},{"$f":"IF(IF(ISNA(VLOOKUP(B36,Preparat!$A$2:$E$322,3,FALSE)),\"\",VLOOKUP(B36,Preparat!$A$2:$E$322,3))=0,\"\",IF(ISNA(VLOOKUP(B36,Preparat!$A$2:$E$322,3,FALSE)),\"\",VLOOKUP(B36,Preparat!$A$2:$E$322,3)))","v":""},{"$f":"IF(IF(ISNA(VLOOKUP(B36,Preparat!$A$2:$E$9998,5,FALSE)),\"\",VLOOKUP(B36,Preparat!$A$2:$E$9998,5))=0,\"\",IF(ISNA(VLOOKUP(B36,Preparat!$A$2:$E$9998,5,FALSE)),\"\",VLOOKUP(B36,Preparat!$A$2:$E$9998,5)))","v":""},{"$f":"IF(IF(ISNA(VLOOKUP(B36,Preparat!$A$2:$E$322,4,FALSE)),\"\",VLOOKUP(B36,Preparat!$A$2:$E$322,4))<1901-1-1,\"\",IF(ISNA(VLOOKUP(B36,Preparat!$A$2:$E$322,4,FALSE)),\"\",VLOOKUP(B36,Preparat!$A$2:$E$322,4)))","v":""}]
[null,null,{"$f":"IF(ISNA(VLOOKUP(B37,Preparat!$A$2:$E$322,2,FALSE)),\"\",VLOOKUP(B37,Preparat!$A$2:$E$322,2))","v":""},{"$f":"IF(IF(ISNA(VLOOKUP(B37,Preparat!$A$2:$E$322,3,FALSE)),\"\",VLOOKUP(B37,Preparat!$A$2:$E$322,3))=0,\"\",IF(ISNA(VLOOKUP(B37,Preparat!$A$2:$E$322,3,FALSE)),\"\",VLOOKUP(B37,Preparat!$A$2:$E$322,3)))","v":""},{"$f":"IF(IF(ISNA(VLOOKUP(B37,Preparat!$A$2:$E$9998,5,FALSE)),\"\",VLOOKUP(B37,Preparat!$A$2:$E$9998,5))=0,\"\",IF(ISNA(VLOOKUP(B37,Preparat!$A$2:$E$9998,5,FALSE)),\"\",VLOOKUP(B37,Preparat!$A$2:$E$9998,5)))","v":""},{"$f":"IF(IF(ISNA(VLOOKUP(B37,Preparat!$A$2:$E$322,4,FALSE)),\"\",VLOOKUP(B37,Preparat!$A$2:$E$322,4))<1901-1-1,\"\",IF(ISNA(VLOOKUP(B37,Preparat!$A$2:$E$322,4,FALSE)),\"\",VLOOKUP(B37,Preparat!$A$2:$E$322,4)))","v":""}]
[null,null,{"$f":"IF(ISNA(VLOOKUP(B38,Preparat!$A$2:$E$322,2,FALSE)),\"\",VLOOKUP(B38,Preparat!$A$2:$E$322,2))","v":""},{"$f":"IF(IF(ISNA(VLOOKUP(B38,Preparat!$A$2:$E$322,3,FALSE)),\"\",VLOOKUP(B38,Preparat!$A$2:$E$322,3))=0,\"\",IF(ISNA(VLOOKUP(B38,Preparat!$A$2:$E$322,3,FALSE)),\"\",VLOOKUP(B38,Preparat!$A$2:$E$322,3)))","v":""},{"$f":"IF(IF(ISNA(VLOOKUP(B38,Preparat!$A$2:$E$9998,5,FALSE)),\"\",VLOOKUP(B38,Preparat!$A$2:$E$9998,5))=0,\"\",IF(ISNA(VLOOKUP(B38,Preparat!$A$2:$E$9998,5,FALSE)),\"\",VLOOKUP(B38,Preparat!$A$2:$E$9998,5)))","v":""},{"$f":"IF(IF(ISNA(VLOOKUP(B38,Preparat!$A$2:$E$322,4,FALSE)),\"\",VLOOKUP(B38,Preparat!$A$2:$E$322,4))<1901-1-1,\"\",IF(ISNA(VLOOKUP(B38,Preparat!$A$2:$E$322,4,FALSE)),\"\",VLOOKUP(B38,Preparat!$A$2:$E$322,4)))","v":""}]
[null,null,{"$f":"IF(ISNA(VLOOKUP(B39,Preparat!$A$2:$E$322,2,FALSE)),\"\",VLOOKUP(B39,Preparat!$A$2:$E$322,2))","v":""},{"$f":"IF(IF(ISNA(VLOOKUP(B39,Preparat!$A$2:$E$322,3,FALSE)),\"\",VLOOKUP(B39,Preparat!$A$2:$E$322,3))=0,\"\",IF(ISNA(VLOOKUP(B39,Preparat!$A$2:$E$322,3,FALSE)),\"\",VLOOKUP(B39,Preparat!$A$2:$E$322,3)))","v":""},{"$f":"IF(IF(ISNA(VLOOKUP(B39,Preparat!$A$2:$E$9998,5,FALSE)),\"\",VLOOKUP(B39,Preparat!$A$2:$E$9998,5))=0,\"\",IF(ISNA(VLOOKUP(B39,Preparat!$A$2:$E$9998,5,FALSE)),\"\",VLOOKUP(B39,Preparat!$A$2:$E$9998,5)))","v":""},{"$f":"IF(IF(ISNA(VLOOKUP(B39,Preparat!$A$2:$E$322,4,FALSE)),\"\",VLOOKUP(B39,Preparat!$A$2:$E$322,4))<1901-1-1,\"\",IF(ISNA(VLOOKUP(B39,Preparat!$A$2:$E$322,4,FALSE)),\"\",VLOOKUP(B39,Preparat!$A$2:$E$322,4)))","v":""}]
[null,null,{"$f":"IF(ISNA(VLOOKUP(B40,Preparat!$A$2:$E$322,2,FALSE)),\"\",VLOOKUP(B40,Preparat!$A$2:$E$322,2))","v":""},{"$f":"IF(IF(ISNA(VLOOKUP(B40,Preparat!$A$2:$E$322,3,FALSE)),\"\",VLOOKUP(B40,Preparat!$A$2:$E$322,3))=0,\"\",IF(ISNA(VLOOKUP(B40,Preparat!$A$2:$E$322,3,FALSE)),\"\",VLOOKUP(B40,Preparat!$A$2:$E$322,3)))","v":""},{"$f":"IF(IF(ISNA(VLOOKUP(B40,Preparat!$A$2:$E$9998,5,FALSE)),\"\",VLOOKUP(B40,Preparat!$A$2:$E$9998,5))=0,\"\",IF(ISNA(VLOOKUP(B40,Preparat!$A$2:$E$9998,5,FALSE)),\"\",VLOOKUP(B40,Preparat!$A$2:$E$9998,5)))","v":""},{"$f":"IF(IF(ISNA(VLOOKUP(B40,Preparat!$A$2:$E$322,4,FALSE)),\"\",VLOOKUP(B40,Preparat!$A$2:$E$322,4))<1901-1-1,\"\",IF(ISNA(VLOOKUP(B40,Preparat!$A$2:$E$322,4,FALSE)),\"\",VLOOKUP(B40,Preparat!$A$2:$E$322,4)))","v":""}]
[null,null,{"$f":"IF(ISNA(VLOOKUP(B41,Preparat!$A$2:$E$322,2,FALSE)),\"\",VLOOKUP(B41,Preparat!$A$2:$E$322,2))","v":""},{"$f":"IF(IF(ISNA(VLOOKUP(B41,Preparat!$A$2:$E$322,3,FALSE)),\"\",VLOOKUP(B41,Preparat!$A$2:$E$322,3))=0,\"\",IF(ISNA(VLOOKUP(B41,Preparat!$A$2:$E$322,3,FALSE)),\"\",VLOOKUP(B41,Preparat!$A$2:$E$322,3)))","v":""},{"$f":"IF(IF(ISNA(VLOOKUP(B41,Preparat!$A$2:$E$9998,5,FALSE)),\"\",VLOOKUP(B41,Preparat!$A$2:$E$9998,5))=0,\"\",IF(ISNA(VLOOKUP(B41,Preparat!$A$2:$E$9998,5,FALSE)),\"\",VLOOKUP(B41,Preparat!$A$2:$E$9998,5)))","v":""},{"$f":"IF(IF(ISNA(VLOOKUP(B41,Preparat!$A$2:$E$322,4,FALSE)),\"\",VLOOKUP(B41,Preparat!$A$2:$E$322,4))<1901-1-1,\"\",IF(ISNA(VLOOKUP(B41,Preparat!$A$2:$E$322,4,FALSE)),\"\",VLOOKUP(B41,Preparat!$A$2:$E$322,4)))","v":""}]

{"sheet":"Bilaga 3 (1)","index":4,"n_rows":41,"n_cols":8,"rows_kept":41,"cut":false,"hidden":false,"merged":[[2,1,2,7],[8,7,9,7],[8,1,8,5]]}
["Ansökan om tillstånd",null,null,null,null,null,null,"Bilaga 3"]
[]
["Sökande:",{"$f":"IF(Ansökan!$A$10=0,\"\",Ansökan!$A$10)","v":""}]
[]
["Gröda:"]
[]
["Blanketten är självinstruerande. Flytta musen över blanketten och aktell information visas"]
[]
["Tidpunkt","Preparat",null,null,null,null,"Totaldos","Anteckningar"]
["(Månad)","Preparatnamnamn","Regnr","Klass","Läckagerisk","Anv. Förbud","per hektar"]
[null,null,null,{"$f":"IF(IF(ISNA(VLOOKUP(B11,Preparat!$A$2:$E$322,3,FALSE)),\"\",VLOOKUP(B11,Preparat!$A$2:$E$322,3))=0,\"\",IF(ISNA(VLOOKUP(B11,Preparat!$A$2:$E$322,3,FALSE)),\"\",VLOOKUP(B11,Preparat!$A$2:$E$322,3)))","v":""},{"$f":"IF(IF(ISNA(VLOOKUP(B11,Preparat!$A$2:$E$9998,5,FALSE)),\"\",VLOOKUP(B11,Preparat!$A$2:$E$9998,5))=0,\"\",IF(ISNA(VLOOKUP(B11,Preparat!$A$2:$E$9998,5,FALSE)),\"\",VLOOKUP(B11,Preparat!$A$2:$E$9998,5)))","v":""},{"$f":"IF(IF(ISNA(VLOOKUP(B11,Preparat!$A$2:$E$322,4,FALSE)),\"\",VLOOKUP(B11,Preparat!$A$2:$E$322,4))<1901-1-1,\"\",IF(ISNA(VLOOKUP(B11,Preparat!$A$2:$E$322,4,FALSE)),\"\",VLOOKUP(B11,Preparat!$A$2:$E$322,4)))","v":""}]
[null,null,{"$f":"IF(ISNA(VLOOKUP(B12,Preparat!$A$2:$E$322,2,FALSE)),\"\",VLOOKUP(B12,Preparat!$A$2:$E$322,2))","v":""},{"$f":"IF(IF(ISNA(VLOOKUP(B12,Preparat!$A$2:$E$322,3,FALSE)),\"\",VLOOKUP(B12,Preparat!$A$2:$E$322,3))=0,\"\",IF(ISNA(VLOOKUP(B12,Preparat!$A$2:$E$322,3,FALSE)),\"\",VLOOKUP(B12,Preparat!$A$2:$E$322,3)))","v":""},{"$f":"IF(IF(ISNA(VLOOKUP(B12,Preparat!$A$2:$E$9998,5,FALSE)),\"\",VLOOKUP(B12,Preparat!$A$2:$E$9998,5))=0,\"\",IF(ISNA(VLOOKUP(B12,Preparat!$A$2:$E$9998,5,FALSE)),\"\",VLOOKUP(B12,Preparat!$A$2:$E$9998,5)))","v":""},{"$f":"IF(IF(ISNA(VLOOKUP(B12,Preparat!$A$2:$E$322,4,FALSE)),\"\",VLOOKUP(B12,Preparat!$A$2:$E$322,4))<1901-1-1,\"\",IF(ISNA(VLOOKUP(B12,Preparat!$A$2:$E$322,4,FALSE)),\"\",VLOOKUP(B12,Preparat!$A$2:$E$322,4)))","v":""}]
[null,null,{"$f":"IF(ISNA(VLOOKUP(B13,Preparat!$A$2:$E$322,2,FALSE)),\"\",VLOOKUP(B13,Preparat!$A$2:$E$322,2))","v":""},{"$f":"IF(IF(ISNA(VLOOKUP(B13,Preparat!$A$2:$E$322,3,FALSE)),\"\",VLOOKUP(B13,Preparat!$A$2:$E$322,3))=0,\"\",IF(ISNA(VLOOKUP(B13,Preparat!$A$2:$E$322,3,FALSE)),\"\",VLOOKUP(B13,Preparat!$A$2:$E$322,3)))","v":""},{"$f":"IF(IF(ISNA(VLOOKUP(B13,Preparat!$A$2:$E$9998,5,FALSE)),\"\",VLOOKUP(B13,Preparat!$A$2:$E$9998,5))=0,\"\",IF(ISNA(VLOOKUP(B13,Preparat!$A$2:$E$9998,5,FALSE)),\"\",VLOOKUP(B13,Preparat!$A$2:$E$9998,5)))","v":""},{"$f":"IF(IF(ISNA(VLOOKUP(B13,Preparat!$A$2:$E$322,4,FALSE)),\"\",VLOOKUP(B13,Preparat!$A$2:$E$322,4))<1901-1-1,\"\",IF(ISNA(VLOOKUP(B13,Preparat!$A$2:$E$322,4,FALSE)),\"\",VLOOKUP(B13,Preparat!$A$2:$E$322,4)))","v":""}]
[null,null,{"$f":"IF(ISNA(VLOOKUP(B14,Preparat!$A$2:$E$322,2,FALSE)),\"\",VLOOKUP(B14,Preparat!$A$2:$E$322,2))","v":""},{"$f":"IF(IF(ISNA(VLOOKUP(B14,Preparat!$A$2:$E$322,3,FALSE)),\"\",VLOOKUP(B14,Preparat!$A$2:$E$322,3))=0,\"\",IF(ISNA(VLOOKUP(B14,Preparat!$A$2:$E$322,3,FALSE)),\"\",VLOOKUP(B14,Preparat!$A$2:$E$322,3)))","v":""},{"$f":"IF(IF(ISNA(VLOOKUP(B14,Preparat!$A$2:$E$9998,5,FALSE)),\"\",VLOOKUP(B14,Preparat!$A$2:$E$9998,5))=0,\"\",IF(ISNA(VLOOKUP(B14,Preparat!$A$2:$E$9998,5,FALSE)),\"\",VLOOKUP(B14,Preparat!$A$2:$E$9998,5)))","v":""},{"$f":"IF(IF(ISNA(VLOOKUP(B14,Preparat!$A$2:$E$322,4,FALSE)),\"\",VLOOKUP(B14,Preparat!$A$2:$E$322,4))<1901-1-1,\"\",IF(ISNA(VLOOKUP(B14,Preparat!$A$2:$E$322,4,FALSE)),\"\",VLOOKUP(B14,Preparat!$A$2:$E$322,4)))","v":""}]
[null,null,{"$f":"IF(ISNA(VLOOKUP(B15,Preparat!$A$2:$E$322,2,FALSE)),\"\",VLOOKUP(B15,Preparat!$A$2:$E$322,2))","v":""},{"$f":"IF(IF(ISNA(VLOOKUP(B15,Preparat!$A$2:$E$322,3,FALSE)),\"\",VLOOKUP(B15,Preparat!$A$2:$E$322,3))=0,\"\",IF(ISNA(VLOOKUP(B15,Preparat!$A$2:$E$322,3,FALSE)),\"\",VLOOKUP(B15,Preparat!$A$2:$E$322,3)))","v":""},{"$f":"IF(IF(ISNA(VLOOKUP(B15,Preparat!$A$2:$E$9998,5,FALSE)),\"\",VLOOKUP(B15,Preparat!$A$2:$E$9998,5))=0,\"\",IF(ISNA(VLOOKUP(B15,Preparat!$A$2:$E$9998,5,FALSE)),\"\",VLOOKUP(B15,Preparat!$A$2:$E$9998,5)))","v":""},{"$f":"IF(IF(ISNA(VLOOKUP(B15,Preparat!$A$2:$E$322,4,FALSE)),\"\",VLOOKUP(B15,Preparat!$A$2:$E$322,4))<1901-1-1,\"\",IF(ISNA(VLOOKUP(B15,Preparat!$A$2:$E$322,4,FALSE)),\"\",VLOOKUP(B15,Preparat!$A$2:$E$322,4)))","v":""}]
[null,null,{"$f":"IF(ISNA(VLOOKUP(B16,Preparat!$A$2:$E$322,2,FALSE)),\"\",VLOOKUP(B16,Preparat!$A$2:$E$322,2))","v":""},{"$f":"IF(IF(ISNA(VLOOKUP(B16,Preparat!$A$2:$E$322,3,FALSE)),\"\",VLOOKUP(B16,Preparat!$A$2:$E$322,3))=0,\"\",IF(ISNA(VLOOKUP(B16,Preparat!$A$2:$E$322,3,FALSE)),\"\",VLOOKUP(B16,Preparat!$A$2:$E$322,3)))","v":""},{"$f":"IF(IF(ISNA(VLOOKUP(B16,Preparat!$A$2:$E$9998,5,FALSE)),\"\",VLOOKUP(B16,Preparat!$A$2:$E$9998,5))=0,\"\",IF(ISNA(VLOOKUP(B16,Preparat!$A$2:$E$9998,5,FALSE)),\"\",VLOOKUP(B16,Preparat!$A$2:$E$9998,5)))","v":""},{"$f":"IF(IF(ISNA(VLOOKUP(B16,Preparat!$A$2:$E$322,4,FALSE)),\"\",VLOOKUP(B16,Preparat!$A$2:$E$322,4))<1901-1-1,\"\",IF(ISNA(VLOOKUP(B16,Preparat!$A$2:$E$322,4,FALSE)),\"\",VLOOKUP(B16,Preparat!$A$2:$E$322,4)))","v":""}]
[null,null,{"$f":"IF(ISNA(VLOOKUP(B17,Preparat!$A$2:$E$322,2,FALSE)),\"\",VLOOKUP(B17,Preparat!$A$2:$E$322,2))","v":""},{"$f":"IF(IF(ISNA(VLOOKUP(B17,Preparat!$A$2:$E$322,3,FALSE)),\"\",VLOOKUP(B17,Preparat!$A$2:$E$322,3))=0,\"\",IF(ISNA(VLOOKUP(B17,Preparat!$A$2:$E$322,3,FALSE)),\"\",VLOOKUP(B17,Preparat!$A$2:$E$322,3)))","v":""},{"$f":"IF(IF(ISNA(VLOOKUP(B17,Preparat!$A$2:$E$9998,5,FALSE)),\"\",VLOOKUP(B17,Preparat!$A$2:$E$9998,5))=0,\"\",IF(ISNA(VLOOKUP(B17,Preparat!$A$2:$E$9998,5,FALSE)),\"\",VLOOKUP(B17,Preparat!$A$2:$E$9998,5)))","v":""},{"$f":"IF(IF(ISNA(VLOOKUP(B17,Preparat!$A$2:$E$322,4,FALSE)),\"\",VLOOKUP(B17,Preparat!$A$2:$E$322,4))<1901-1-1,\"\",IF(ISNA(VLOOKUP(B17,Preparat!$A$2:$E$322,4,FALSE)),\"\",VLOOKUP(B17,Preparat!$A$2:$E$322,4)))","v":""}]
[null,null,{"$f":"IF(ISNA(VLOOKUP(B18,Preparat!$A$2:$E$322,2,FALSE)),\"\",VLOOKUP(B18,Preparat!$A$2:$E$322,2))","v":""},{"$f":"IF(IF(ISNA(VLOOKUP(B18,Preparat!$A$2:$E$322,3,FALSE)),\"\",VLOOKUP(B18,Preparat!$A$2:$E$322,3))=0,\"\",IF(ISNA(VLOOKUP(B18,Preparat!$A$2:$E$322,3,FALSE)),\"\",VLOOKUP(B18,Preparat!$A$2:$E$322,3)))","v":""},{"$f":"IF(IF(ISNA(VLOOKUP(B18,Preparat!$A$2:$E$9998,5,FALSE)),\"\",VLOOKUP(B18,Preparat!$A$2:$E$9998,5))=0,\"\",IF(ISNA(VLOOKUP(B18,Preparat!$A$2:$E$9998,5,FALSE)),\"\",VLOOKUP(B18,Preparat!$A$2:$E$9998,5)))","v":""},{"$f":"IF(IF(ISNA(VLOOKUP(B18,Preparat!$A$2:$E$322,4,FALSE)),\"\",VLOOKUP(B18,Preparat!$A$2:$E$322,4))<1901-1-1,\"\",IF(ISNA(VLOOKUP(B18,Preparat!$A$2:$E$322,4,FALSE)),\"\",VLOOKUP(B18,Preparat!$A$2:$E$322,4)))","v":""}]
[null,null,{"$f":"IF(ISNA(VLOOKUP(B19,Preparat!$A$2:$E$322,2,FALSE)),\"\",VLOOKUP(B19,Preparat!$A$2:$E$322,2))","v":""},{"$f":"IF(IF(ISNA(VLOOKUP(B19,Preparat!$A$2:$E$322,3,FALSE)),\"\",VLOOKUP(B19,Preparat!$A$2:$E$322,3))=0,\"\",IF(ISNA(VLOOKUP(B19,Preparat!$A$2:$E$322,3,FALSE)),\"\",VLOOKUP(B19,Preparat!$A$2:$E$322,3)))","v":""},{"$f":"IF(IF(ISNA(VLOOKUP(B19,Preparat!$A$2:$E$9998,5,FALSE)),\"\",VLOOKUP(B19,Preparat!$A$2:$E$9998,5))=0,\"\",IF(ISNA(VLOOKUP(B19,Preparat!$A$2:$E$9998,5,FALSE)),\"\",VLOOKUP(B19,Preparat!$A$2:$E$9998,5)))","v":""},{"$f":"IF(IF(ISNA(VLOOKUP(B19,Preparat!$A$2:$E$322,4,FALSE)),\"\",VLOOKUP(B19,Preparat!$A$2:$E$322,4))<1901-1-1,\"\",IF(ISNA(VLOOKUP(B19,Preparat!$A$2:$E$322,4,FALSE)),\"\",VLOOKUP(B19,Preparat!$A$2:$E$322,4)))","v":""}]
[null,null,{"$f":"IF(ISNA(VLOOKUP(B20,Preparat!$A$2:$E$322,2,FALSE)),\"\",VLOOKUP(B20,Preparat!$A$2:$E$322,2))","v":""},{"$f":"IF(IF(ISNA(VLOOKUP(B20,Preparat!$A$2:$E$322,3,FALSE)),\"\",VLOOKUP(B20,Preparat!$A$2:$E$322,3))=0,\"\",IF(ISNA(VLOOKUP(B20,Preparat!$A$2:$E$322,3,FALSE)),\"\",VLOOKUP(B20,Preparat!$A$2:$E$322,3)))","v":""},{"$f":"IF(IF(ISNA(VLOOKUP(B20,Preparat!$A$2:$E$9998,5,FALSE)),\"\",VLOOKUP(B20,Preparat!$A$2:$E$9998,5))=0,\"\",IF(ISNA(VLOOKUP(B20,Preparat!$A$2:$E$9998,5,FALSE)),\"\",VLOOKUP(B20,Preparat!$A$2:$E$9998,5)))","v":""},{"$f":"IF(IF(ISNA(VLOOKUP(B20,Preparat!$A$2:$E$322,4,FALSE)),\"\",VLOOKUP(B20,Preparat!$A$2:$E$322,4))<1901-1-1,\"\",IF(ISNA(VLOOKUP(B20,Preparat!$A$2:$E$322,4,FALSE)),\"\",VLOOKUP(B20,Preparat!$A$2:$E$322,4)))","v":""}]
[null,null,{"$f":"IF(ISNA(VLOOKUP(B21,Preparat!$A$2:$E$322,2,FALSE)),\"\",VLOOKUP(B21,Preparat!$A$2:$E$322,2))","v":""},{"$f":"IF(IF(ISNA(VLOOKUP(B21,Preparat!$A$2:$E$322,3,FALSE)),\"\",VLOOKUP(B21,Preparat!$A$2:$E$322,3))=0,\"\",IF(ISNA(VLOOKUP(B21,Preparat!$A$2:$E$322,3,FALSE)),\"\",VLOOKUP(B21,Preparat!$A$2:$E$322,3)))","v":""},{"$f":"IF(IF(ISNA(VLOOKUP(B21,Preparat!$A$2:$E$9998,5,FALSE)),\"\",VLOOKUP(B21,Preparat!$A$2:$E$9998,5))=0,\"\",IF(ISNA(VLOOKUP(B21,Preparat!$A$2:$E$9998,5,FALSE)),\"\",VLOOKUP(B21,Preparat!$A$2:$E$9998,5)))","v":""},{"$f":"IF(IF(ISNA(VLOOKUP(B21,Preparat!$A$2:$E$322,4,FALSE)),\"\",VLOOKUP(B21,Preparat!$A$2:$E$322,4))<1901-1-1,\"\",IF(ISNA(VLOOKUP(B21,Preparat!$A$2:$E$322,4,FALSE)),\"\",VLOOKUP(B21,Preparat!$A$2:$E$322,4)))","v":""}]
[null,null,{"$f":"IF(ISNA(VLOOKUP(B22,Preparat!$A$2:$E$322,2,FALSE)),\"\",VLOOKUP(B22,Preparat!$A$2:$E$322,2))","v":""},{"$f":"IF(IF(ISNA(VLOOKUP(B22,Preparat!$A$2:$E$322,3,FALSE)),\"\",VLOOKUP(B22,Preparat!$A$2:$E$322,3))=0,\"\",IF(ISNA(VLOOKUP(B22,Preparat!$A$2:$E$322,3,FALSE)),\"\",VLOOKUP(B22,Preparat!$A$2:$E$322,3)))","v":""},{"$f":"IF(IF(ISNA(VLOOKUP(B22,Preparat!$A$2:$E$9998,5,FALSE)),\"\",VLOOKUP(B22,Preparat!$A$2:$E$9998,5))=0,\"\",IF(ISNA(VLOOKUP(B22,Preparat!$A$2:$E$9998,5,FALSE)),\"\",VLOOKUP(B22,Preparat!$A$2:$E$9998,5)))","v":""},{"$f":"IF(IF(ISNA(VLOOKUP(B22,Preparat!$A$2:$E$322,4,FALSE)),\"\",VLOOKUP(B22,Preparat!$A$2:$E$322,4))<1901-1-1,\"\",IF(ISNA(VLOOKUP(B22,Preparat!$A$2:$E$322,4,FALSE)),\"\",VLOOKUP(B22,Preparat!$A$2:$E$322,4)))","v":""}]
[null,null,{"$f":"IF(ISNA(VLOOKUP(B23,Preparat!$A$2:$E$322,2,FALSE)),\"\",VLOOKUP(B23,Preparat!$A$2:$E$322,2))","v":""},{"$f":"IF(IF(ISNA(VLOOKUP(B23,Preparat!$A$2:$E$322,3,FALSE)),\"\",VLOOKUP(B23,Preparat!$A$2:$E$322,3))=0,\"\",IF(ISNA(VLOOKUP(B23,Preparat!$A$2:$E$322,3,FALSE)),\"\",VLOOKUP(B23,Preparat!$A$2:$E$322,3)))","v":""},{"$f":"IF(IF(ISNA(VLOOKUP(B23,Preparat!$A$2:$E$9998,5,FALSE)),\"\",VLOOKUP(B23,Preparat!$A$2:$E$9998,5))=0,\"\",IF(ISNA(VLOOKUP(B23,Preparat!$A$2:$E$9998,5,FALSE)),\"\",VLOOKUP(B23,Preparat!$A$2:$E$9998,5)))","v":""},{"$f":"IF(IF(ISNA(VLOOKUP(B23,Preparat!$A$2:$E$322,4,FALSE)),\"\",VLOOKUP(B23,Preparat!$A$2:$E$322,4))<1901-1-1,\"\",IF(ISNA(VLOOKUP(B23,Preparat!$A$2:$E$322,4,FALSE)),\"\",VLOOKUP(B23,Preparat!$A$2:$E$322,4)))","v":""}]
[null,null,{"$f":"IF(ISNA(VLOOKUP(B24,Preparat!$A$2:$E$322,2,FALSE)),\"\",VLOOKUP(B24,Preparat!$A$2:$E$322,2))","v":""},{"$f":"IF(IF(ISNA(VLOOKUP(B24,Preparat!$A$2:$E$322,3,FALSE)),\"\",VLOOKUP(B24,Preparat!$A$2:$E$322,3))=0,\"\",IF(ISNA(VLOOKUP(B24,Preparat!$A$2:$E$322,3,FALSE)),\"\",VLOOKUP(B24,Preparat!$A$2:$E$322,3)))","v":""},{"$f":"IF(IF(ISNA(VLOOKUP(B24,Preparat!$A$2:$E$9998,5,FALSE)),\"\",VLOOKUP(B24,Preparat!$A$2:$E$9998,5))=0,\"\",IF(ISNA(VLOOKUP(B24,Preparat!$A$2:$E$9998,5,FALSE)),\"\",VLOOKUP(B24,Preparat!$A$2:$E$9998,5)))","v":""},{"$f":"IF(IF(ISNA(VLOOKUP(B24,Preparat!$A$2:$E$322,4,FALSE)),\"\",VLOOKUP(B24,Preparat!$A$2:$E$322,4))<1901-1-1,\"\",IF(ISNA(VLOOKUP(B24,Preparat!$A$2:$E$322,4,FALSE)),\"\",VLOOKUP(B24,Preparat!$A$2:$E$322,4)))","v":""}]
[null,null,{"$f":"IF(ISNA(VLOOKUP(B25,Preparat!$A$2:$E$322,2,FALSE)),\"\",VLOOKUP(B25,Preparat!$A$2:$E$322,2))","v":""},{"$f":"IF(IF(ISNA(VLOOKUP(B25,Preparat!$A$2:$E$322,3,FALSE)),\"\",VLOOKUP(B25,Preparat!$A$2:$E$322,3))=0,\"\",IF(ISNA(VLOOKUP(B25,Preparat!$A$2:$E$322,3,FALSE)),\"\",VLOOKUP(B25,Preparat!$A$2:$E$322,3)))","v":""},{"$f":"IF(IF(ISNA(VLOOKUP(B25,Preparat!$A$2:$E$9998,5,FALSE)),\"\",VLOOKUP(B25,Preparat!$A$2:$E$9998,5))=0,\"\",IF(ISNA(VLOOKUP(B25,Preparat!$A$2:$E$9998,5,FALSE)),\"\",VLOOKUP(B25,Preparat!$A$2:$E$9998,5)))","v":""},{"$f":"IF(IF(ISNA(VLOOKUP(B25,Preparat!$A$2:$E$322,4,FALSE)),\"\",VLOOKUP(B25,Preparat!$A$2:$E$322,4))<1901-1-1,\"\",IF(ISNA(VLOOKUP(B25,Preparat!$A$2:$E$322,4,FALSE)),\"\",VLOOKUP(B25,Preparat!$A$2:$E$322,4)))","v":""}]
[null,null,{"$f":"IF(ISNA(VLOOKUP(B26,Preparat!$A$2:$E$322,2,FALSE)),\"\",VLOOKUP(B26,Preparat!$A$2:$E$322,2))","v":""},{"$f":"IF(IF(ISNA(VLOOKUP(B26,Preparat!$A$2:$E$322,3,FALSE)),\"\",VLOOKUP(B26,Preparat!$A$2:$E$322,3))=0,\"\",IF(ISNA(VLOOKUP(B26,Preparat!$A$2:$E$322,3,FALSE)),\"\",VLOOKUP(B26,Preparat!$A$2:$E$322,3)))","v":""},{"$f":"IF(IF(ISNA(VLOOKUP(B26,Preparat!$A$2:$E$9998,5,FALSE)),\"\",VLOOKUP(B26,Preparat!$A$2:$E$9998,5))=0,\"\",IF(ISNA(VLOOKUP(B26,Preparat!$A$2:$E$9998,5,FALSE)),\"\",VLOOKUP(B26,Preparat!$A$2:$E$9998,5)))","v":""},{"$f":"IF(IF(ISNA(VLOOKUP(B26,Preparat!$A$2:$E$322,4,FALSE)),\"\",VLOOKUP(B26,Preparat!$A$2:$E$322,4))<1901-1-1,\"\",IF(ISNA(VLOOKUP(B26,Preparat!$A$2:$E$322,4,FALSE)),\"\",VLOOKUP(B26,Preparat!$A$2:$E$322,4)))","v":""}]
[null,null,{"$f":"IF(ISNA(VLOOKUP(B27,Preparat!$A$2:$E$322,2,FALSE)),\"\",VLOOKUP(B27,Preparat!$A$2:$E$322,2))","v":""},{"$f":"IF(IF(ISNA(VLOOKUP(B27,Preparat!$A$2:$E$322,3,FALSE)),\"\",VLOOKUP(B27,Preparat!$A$2:$E$322,3))=0,\"\",IF(ISNA(VLOOKUP(B27,Preparat!$A$2:$E$322,3,FALSE)),\"\",VLOOKUP(B27,Preparat!$A$2:$E$322,3)))","v":""},{"$f":"IF(IF(ISNA(VLOOKUP(B27,Preparat!$A$2:$E$9998,5,FALSE)),\"\",VLOOKUP(B27,Preparat!$A$2:$E$9998,5))=0,\"\",IF(ISNA(VLOOKUP(B27,Preparat!$A$2:$E$9998,5,FALSE)),\"\",VLOOKUP(B27,Preparat!$A$2:$E$9998,5)))","v":""},{"$f":"IF(IF(ISNA(VLOOKUP(B27,Preparat!$A$2:$E$322,4,FALSE)),\"\",VLOOKUP(B27,Preparat!$A$2:$E$322,4))<1901-1-1,\"\",IF(ISNA(VLOOKUP(B27,Preparat!$A$2:$E$322,4,FALSE)),\"\",VLOOKUP(B27,Preparat!$A$2:$E$322,4)))","v":""}]
[null,null,{"$f":"IF(ISNA(VLOOKUP(B28,Preparat!$A$2:$E$322,2,FALSE)),\"\",VLOOKUP(B28,Preparat!$A$2:$E$322,2))","v":""},{"$f":"IF(IF(ISNA(VLOOKUP(B28,Preparat!$A$2:$E$322,3,FALSE)),\"\",VLOOKUP(B28,Preparat!$A$2:$E$322,3))=0,\"\",IF(ISNA(VLOOKUP(B28,Preparat!$A$2:$E$322,3,FALSE)),\"\",VLOOKUP(B28,Preparat!$A$2:$E$322,3)))","v":""},{"$f":"IF(IF(ISNA(VLOOKUP(B28,Preparat!$A$2:$E$9998,5,FALSE)),\"\",VLOOKUP(B28,Preparat!$A$2:$E$9998,5))=0,\"\",IF(ISNA(VLOOKUP(B28,Preparat!$A$2:$E$9998,5,FALSE)),\"\",VLOOKUP(B28,Preparat!$A$2:$E$9998,5)))","v":""},{"$f":"IF(IF(ISNA(VLOOKUP(B28,Preparat!$A$2:$E$322,4,FALSE)),\"\",VLOOKUP(B28,Preparat!$A$2:$E$322,4))<1901-1-1,\"\",IF(ISNA(VLOOKUP(B28,Preparat!$A$2:$E$322,4,FALSE)),\"\",VLOOKUP(B28,Preparat!$A$2:$E$322,4)))","v":""}]
[null,null,{"$f":"IF(ISNA(VLOOKUP(B29,Preparat!$A$2:$E$322,2,FALSE)),\"\",VLOOKUP(B29,Preparat!$A$2:$E$322,2))","v":""},{"$f":"IF(IF(ISNA(VLOOKUP(B29,Preparat!$A$2:$E$322,3,FALSE)),\"\",VLOOKUP(B29,Preparat!$A$2:$E$322,3))=0,\"\",IF(ISNA(VLOOKUP(B29,Preparat!$A$2:$E$322,3,FALSE)),\"\",VLOOKUP(B29,Preparat!$A$2:$E$322,3)))","v":""},{"$f":"IF(IF(ISNA(VLOOKUP(B29,Preparat!$A$2:$E$9998,5,FALSE)),\"\",VLOOKUP(B29,Preparat!$A$2:$E$9998,5))=0,\"\",IF(ISNA(VLOOKUP(B29,Preparat!$A$2:$E$9998,5,FALSE)),\"\",VLOOKUP(B29,Preparat!$A$2:$E$9998,5)))","v":""},{"$f":"IF(IF(ISNA(VLOOKUP(B29,Preparat!$A$2:$E$322,4,FALSE)),\"\",VLOOKUP(B29,Preparat!$A$2:$E$322,4))<1901-1-1,\"\",IF(ISNA(VLOOKUP(B29,Preparat!$A$2:$E$322,4,FALSE)),\"\",VLOOKUP(B29,Preparat!$A$2:$E$322,4)))","v":""}]
[null,null,{"$f":"IF(ISNA(VLOOKUP(B30,Preparat!$A$2:$E$322,2,FALSE)),\"\",VLOOKUP(B30,Preparat!$A$2:$E$322,2))","v":""},{"$f":"IF(IF(ISNA(VLOOKUP(B30,Preparat!$A$2:$E$322,3,FALSE)),\"\",VLOOKUP(B30,Preparat!$A$2:$E$322,3))=0,\"\",IF(ISNA(VLOOKUP(B30,Preparat!$A$2:$E$322,3,FALSE)),\"\",VLOOKUP(B30,Preparat!$A$2:$E$322,3)))","v":""},{"$f":"IF(IF(ISNA(VLOOKUP(B30,Preparat!$A$2:$E$9998,5,FALSE)),\"\",VLOOKUP(B30,Preparat!$A$2:$E$9998,5))=0,\"\",IF(ISNA(VLOOKUP(B30,Preparat!$A$2:$E$9998,5,FALSE)),\"\",VLOOKUP(B30,Preparat!$A$2:$E$9998,5)))","v":""},{"$f":"IF(IF(ISNA(VLOOKUP(B30,Preparat!$A$2:$E$322,4,FALSE)),\"\",VLOOKUP(B30,Preparat!$A$2:$E$322,4))<1901-1-1,\"\",IF(ISNA(VLOOKUP(B30,Preparat!$A$2:$E$322,4,FALSE)),\"\",VLOOKUP(B30,Preparat!$A$2:$E$322,4)))","v":""}]
[null,null,{"$f":"IF(ISNA(VLOOKUP(B31,Preparat!$A$2:$E$322,2,FALSE)),\"\",VLOOKUP(B31,Preparat!$A$2:$E$322,2))","v":""},{"$f":"IF(IF(ISNA(VLOOKUP(B31,Preparat!$A$2:$E$322,3,FALSE)),\"\",VLOOKUP(B31,Preparat!$A$2:$E$322,3))=0,\"\",IF(ISNA(VLOOKUP(B31,Preparat!$A$2:$E$322,3,FALSE)),\"\",VLOOKUP(B31,Preparat!$A$2:$E$322,3)))","v":""},{"$f":"IF(IF(ISNA(VLOOKUP(B31,Preparat!$A$2:$E$9998,5,FALSE)),\"\",VLOOKUP(B31,Preparat!$A$2:$E$9998,5))=0,\"\",IF(ISNA(VLOOKUP(B31,Preparat!$A$2:$E$9998,5,FALSE)),\"\",VLOOKUP(B31,Preparat!$A$2:$E$9998,5)))","v":""},{"$f":"IF(IF(ISNA(VLOOKUP(B31,Preparat!$A$2:$E$322,4,FALSE)),\"\",VLOOKUP(B31,Preparat!$A$2:$E$322,4))<1901-1-1,\"\",IF(ISNA(VLOOKUP(B31,Preparat!$A$2:$E$322,4,FALSE)),\"\",VLOOKUP(B31,Preparat!$A$2:$E$322,4)))","v":""}]
[null,null,{"$f":"IF(ISNA(VLOOKUP(B32,Preparat!$A$2:$E$322,2,FALSE)),\"\",VLOOKUP(B32,Preparat!$A$2:$E$322,2))","v":""},{"$f":"IF(IF(ISNA(VLOOKUP(B32,Preparat!$A$2:$E$322,3,FALSE)),\"\",VLOOKUP(B32,Preparat!$A$2:$E$322,3))=0,\"\",IF(ISNA(VLOOKUP(B32,Preparat!$A$2:$E$322,3,FALSE)),\"\",VLOOKUP(B32,Preparat!$A$2:$E$322,3)))","v":""},{"$f":"IF(IF(ISNA(VLOOKUP(B32,Preparat!$A$2:$E$9998,5,FALSE)),\"\",VLOOKUP(B32,Preparat!$A$2:$E$9998,5))=0,\"\",IF(ISNA(VLOOKUP(B32,Preparat!$A$2:$E$9998,5,FALSE)),\"\",VLOOKUP(B32,Preparat!$A$2:$E$9998,5)))","v":""},{"$f":"IF(IF(ISNA(VLOOKUP(B32,Preparat!$A$2:$E$322,4,FALSE)),\"\",VLOOKUP(B32,Preparat!$A$2:$E$322,4))<1901-1-1,\"\",IF(ISNA(VLOOKUP(B32,Preparat!$A$2:$E$322,4,FALSE)),\"\",VLOOKUP(B32,Preparat!$A$2:$E$322,4)))","v":""}]
[null,null,{"$f":"IF(ISNA(VLOOKUP(B33,Preparat!$A$2:$E$322,2,FALSE)),\"\",VLOOKUP(B33,Preparat!$A$2:$E$322,2))","v":""},{"$f":"IF(IF(ISNA(VLOOKUP(B33,Preparat!$A$2:$E$322,3,FALSE)),\"\",VLOOKUP(B33,Preparat!$A$2:$E$322,3))=0,\"\",IF(ISNA(VLOOKUP(B33,Preparat!$A$2:$E$322,3,FALSE)),\"\",VLOOKUP(B33,Preparat!$A$2:$E$322,3)))","v":""},{"$f":"IF(IF(ISNA(VLOOKUP(B33,Preparat!$A$2:$E$9998,5,FALSE)),\"\",VLOOKUP(B33,Preparat!$A$2:$E$9998,5))=0,\"\",IF(ISNA(VLOOKUP(B33,Preparat!$A$2:$E$9998,5,FALSE)),\"\",VLOOKUP(B33,Preparat!$A$2:$E$9998,5)))","v":""},{"$f":"IF(IF(ISNA(VLOOKUP(B33,Preparat!$A$2:$E$322,4,FALSE)),\"\",VLOOKUP(B33,Preparat!$A$2:$E$322,4))<1901-1-1,\"\",IF(ISNA(VLOOKUP(B33,Preparat!$A$2:$E$322,4,FALSE)),\"\",VLOOKUP(B33,Preparat!$A$2:$E$322,4)))","v":""}]
[null,null,{"$f":"IF(ISNA(VLOOKUP(B34,Preparat!$A$2:$E$322,2,FALSE)),\"\",VLOOKUP(B34,Preparat!$A$2:$E$322,2))","v":""},{"$f":"IF(IF(ISNA(VLOOKUP(B34,Preparat!$A$2:$E$322,3,FALSE)),\"\",VLOOKUP(B34,Preparat!$A$2:$E$322,3))=0,\"\",IF(ISNA(VLOOKUP(B34,Preparat!$A$2:$E$322,3,FALSE)),\"\",VLOOKUP(B34,Preparat!$A$2:$E$322,3)))","v":""},{"$f":"IF(IF(ISNA(VLOOKUP(B34,Preparat!$A$2:$E$9998,5,FALSE)),\"\",VLOOKUP(B34,Preparat!$A$2:$E$9998,5))=0,\"\",IF(ISNA(VLOOKUP(B34,Preparat!$A$2:$E$9998,5,FALSE)),\"\",VLOOKUP(B34,Preparat!$A$2:$E$9998,5)))","v":""},{"$f":"IF(IF(ISNA(VLOOKUP(B34,Preparat!$A$2:$E$322,4,FALSE)),\"\",VLOOKUP(B34,Preparat!$A$2:$E$322,4))<1901-1-1,\"\",IF(ISNA(VLOOKUP(B34,Preparat!$A$2:$E$322,4,FALSE)),\"\",VLOOKUP(B34,Preparat!$A$2:$E$322,4)))","v":""}]
[null,null,{"$f":"IF(ISNA(VLOOKUP(B35,Preparat!$A$2:$E$322,2,FALSE)),\"\",VLOOKUP(B35,Preparat!$A$2:$E$322,2))","v":""},{"$f":"IF(IF(ISNA(VLOOKUP(B35,Preparat!$A$2:$E$322,3,FALSE)),\"\",VLOOKUP(B35,Preparat!$A$2:$E$322,3))=0,\"\",IF(ISNA(VLOOKUP(B35,Preparat!$A$2:$E$322,3,FALSE)),\"\",VLOOKUP(B35,Preparat!$A$2:$E$322,3)))","v":""},{"$f":"IF(IF(ISNA(VLOOKUP(B35,Preparat!$A$2:$E$9998,5,FALSE)),\"\",VLOOKUP(B35,Preparat!$A$2:$E$9998,5))=0,\"\",IF(ISNA(VLOOKUP(B35,Preparat!$A$2:$E$9998,5,FALSE)),\"\",VLOOKUP(B35,Preparat!$A$2:$E$9998,5)))","v":""},{"$f":"IF(IF(ISNA(VLOOKUP(B35,Preparat!$A$2:$E$322,4,FALSE)),\"\",VLOOKUP(B35,Preparat!$A$2:$E$322,4))<1901-1-1,\"\",IF(ISNA(VLOOKUP(B35,Preparat!$A$2:$E$322,4,FALSE)),\"\",VLOOKUP(B35,Preparat!$A$2:$E$322,4)))","v":""}]
[null,null,{"$f":"IF(ISNA(VLOOKUP(B36,Preparat!$A$2:$E$322,2,FALSE)),\"\",VLOOKUP(B36,Preparat!$A$2:$E$322,2))","v":""},{"$f":"IF(IF(ISNA(VLOOKUP(B36,Preparat!$A$2:$E$322,3,FALSE)),\"\",VLOOKUP(B36,Preparat!$A$2:$E$322,3))=0,\"\",IF(ISNA(VLOOKUP(B36,Preparat!$A$2:$E$322,3,FALSE)),\"\",VLOOKUP(B36,Preparat!$A$2:$E$322,3)))","v":""},{"$f":"IF(IF(ISNA(VLOOKUP(B36,Preparat!$A$2:$E$9998,5,FALSE)),\"\",VLOOKUP(B36,Preparat!$A$2:$E$9998,5))=0,\"\",IF(ISNA(VLOOKUP(B36,Preparat!$A$2:$E$9998,5,FALSE)),\"\",VLOOKUP(B36,Preparat!$A$2:$E$9998,5)))","v":""},{"$f":"IF(IF(ISNA(VLOOKUP(B36,Preparat!$A$2:$E$322,4,FALSE)),\"\",VLOOKUP(B36,Preparat!$A$2:$E$322,4))<1901-1-1,\"\",IF(ISNA(VLOOKUP(B36,Preparat!$A$2:$E$322,4,FALSE)),\"\",VLOOKUP(B36,Preparat!$A$2:$E$322,4)))","v":""}]
[null,null,{"$f":"IF(ISNA(VLOOKUP(B37,Preparat!$A$2:$E$322,2,FALSE)),\"\",VLOOKUP(B37,Preparat!$A$2:$E$322,2))","v":""},{"$f":"IF(IF(ISNA(VLOOKUP(B37,Preparat!$A$2:$E$322,3,FALSE)),\"\",VLOOKUP(B37,Preparat!$A$2:$E$322,3))=0,\"\",IF(ISNA(VLOOKUP(B37,Preparat!$A$2:$E$322,3,FALSE)),\"\",VLOOKUP(B37,Preparat!$A$2:$E$322,3)))","v":""},{"$f":"IF(IF(ISNA(VLOOKUP(B37,Preparat!$A$2:$E$9998,5,FALSE)),\"\",VLOOKUP(B37,Preparat!$A$2:$E$9998,5))=0,\"\",IF(ISNA(VLOOKUP(B37,Preparat!$A$2:$E$9998,5,FALSE)),\"\",VLOOKUP(B37,Preparat!$A$2:$E$9998,5)))","v":""},{"$f":"IF(IF(ISNA(VLOOKUP(B37,Preparat!$A$2:$E$322,4,FALSE)),\"\",VLOOKUP(B37,Preparat!$A$2:$E$322,4))<1901-1-1,\"\",IF(ISNA(VLOOKUP(B37,Preparat!$A$2:$E$322,4,FALSE)),\"\",VLOOKUP(B37,Preparat!$A$2:$E$322,4)))","v":""}]
[null,null,{"$f":"IF(ISNA(VLOOKUP(B38,Preparat!$A$2:$E$322,2,FALSE)),\"\",VLOOKUP(B38,Preparat!$A$2:$E$322,2))","v":""},{"$f":"IF(IF(ISNA(VLOOKUP(B38,Preparat!$A$2:$E$322,3,FALSE)),\"\",VLOOKUP(B38,Preparat!$A$2:$E$322,3))=0,\"\",IF(ISNA(VLOOKUP(B38,Preparat!$A$2:$E$322,3,FALSE)),\"\",VLOOKUP(B38,Preparat!$A$2:$E$322,3)))","v":""},{"$f":"IF(IF(ISNA(VLOOKUP(B38,Preparat!$A$2:$E$9998,5,FALSE)),\"\",VLOOKUP(B38,Preparat!$A$2:$E$9998,5))=0,\"\",IF(ISNA(VLOOKUP(B38,Preparat!$A$2:$E$9998,5,FALSE)),\"\",VLOOKUP(B38,Preparat!$A$2:$E$9998,5)))","v":""},{"$f":"IF(IF(ISNA(VLOOKUP(B38,Preparat!$A$2:$E$322,4,FALSE)),\"\",VLOOKUP(B38,Preparat!$A$2:$E$322,4))<1901-1-1,\"\",IF(ISNA(VLOOKUP(B38,Preparat!$A$2:$E$322,4,FALSE)),\"\",VLOOKUP(B38,Preparat!$A$2:$E$322,4)))","v":""}]
[null,null,{"$f":"IF(ISNA(VLOOKUP(B39,Preparat!$A$2:$E$322,2,FALSE)),\"\",VLOOKUP(B39,Preparat!$A$2:$E$322,2))","v":""},{"$f":"IF(IF(ISNA(VLOOKUP(B39,Preparat!$A$2:$E$322,3,FALSE)),\"\",VLOOKUP(B39,Preparat!$A$2:$E$322,3))=0,\"\",IF(ISNA(VLOOKUP(B39,Preparat!$A$2:$E$322,3,FALSE)),\"\",VLOOKUP(B39,Preparat!$A$2:$E$322,3)))","v":""},{"$f":"IF(IF(ISNA(VLOOKUP(B39,Preparat!$A$2:$E$9998,5,FALSE)),\"\",VLOOKUP(B39,Preparat!$A$2:$E$9998,5))=0,\"\",IF(ISNA(VLOOKUP(B39,Preparat!$A$2:$E$9998,5,FALSE)),\"\",VLOOKUP(B39,Preparat!$A$2:$E$9998,5)))","v":""},{"$f":"IF(IF(ISNA(VLOOKUP(B39,Preparat!$A$2:$E$322,4,FALSE)),\"\",VLOOKUP(B39,Preparat!$A$2:$E$322,4))<1901-1-1,\"\",IF(ISNA(VLOOKUP(B39,Preparat!$A$2:$E$322,4,FALSE)),\"\",VLOOKUP(B39,Preparat!$A$2:$E$322,4)))","v":""}]
[null,null,{"$f":"IF(ISNA(VLOOKUP(B40,Preparat!$A$2:$E$322,2,FALSE)),\"\",VLOOKUP(B40,Preparat!$A$2:$E$322,2))","v":""},{"$f":"IF(IF(ISNA(VLOOKUP(B40,Preparat!$A$2:$E$322,3,FALSE)),\"\",VLOOKUP(B40,Preparat!$A$2:$E$322,3))=0,\"\",IF(ISNA(VLOOKUP(B40,Preparat!$A$2:$E$322,3,FALSE)),\"\",VLOOKUP(B40,Preparat!$A$2:$E$322,3)))","v":""},{"$f":"IF(IF(ISNA(VLOOKUP(B40,Preparat!$A$2:$E$9998,5,FALSE)),\"\",VLOOKUP(B40,Preparat!$A$2:$E$9998,5))=0,\"\",IF(ISNA(VLOOKUP(B40,Preparat!$A$2:$E$9998,5,FALSE)),\"\",VLOOKUP(B40,Preparat!$A$2:$E$9998,5)))","v":""},{"$f":"IF(IF(ISNA(VLOOKUP(B40,Preparat!$A$2:$E$322,4,FALSE)),\"\",VLOOKUP(B40,Preparat!$A$2:$E$322,4))<1901-1-1,\"\",IF(ISNA(VLOOKUP(B40,Preparat!$A$2:$E$322,4,FALSE)),\"\",VLOOKUP(B40,Preparat!$A$2:$E$322,4)))","v":""}]
[null,null,{"$f":"IF(ISNA(VLOOKUP(B41,Preparat!$A$2:$E$322,2,FALSE)),\"\",VLOOKUP(B41,Preparat!$A$2:$E$322,2))","v":""},{"$f":"IF(IF(ISNA(VLOOKUP(B41,Preparat!$A$2:$E$322,3,FALSE)),\"\",VLOOKUP(B41,Preparat!$A$2:$E$322,3))=0,\"\",IF(ISNA(VLOOKUP(B41,Preparat!$A$2:$E$322,3,FALSE)),\"\",VLOOKUP(B41,Preparat!$A$2:$E$322,3)))","v":""},{"$f":"IF(IF(ISNA(VLOOKUP(B41,Preparat!$A$2:$E$9998,5,FALSE)),\"\",VLOOKUP(B41,Preparat!$A$2:$E$9998,5))=0,\"\",IF(ISNA(VLOOKUP(B41,Preparat!$A$2:$E$9998,5,FALSE)),\"\",VLOOKUP(B41,Preparat!$A$2:$E$9998,5)))","v":""},{"$f":"IF(IF(ISNA(VLOOKUP(B41,Preparat!$A$2:$E$322,4,FALSE)),\"\",VLOOKUP(B41,Preparat!$A$2:$E$322,4))<1901-1-1,\"\",IF(ISNA(VLOOKUP(B41,Preparat!$A$2:$E$322,4,FALSE)),\"\",VLOOKUP(B41,Preparat!$A$2:$E$322,4)))","v":""}]

{"sheet":"Grödor","index":5,"n_rows":61,"n_cols":7,"rows_kept":61,"cut":false,"hidden":true,"merged":[]}
["Grödor","Kategori","pH","Lerhalt","Mullhalt","Gränsvärde  lerhalt","Gränsvärde mullhalt"]
["Höstvete","Spannmål",5,1,0.1,15,2.5]
["Vårvete","Spannmål",5.0999999999999996,2,0.2]
["Råg","Spannmål",5.2,3,0.3]
["Höstkorn","Spannmål",5.3,4,0.4]
["Vårkorn","Spannmål",5.4,5,0.5]
["Havre","Spannmål",5.5,6,0.6]
["Rågvete","Spannmål",5.6,7,0.7]
["Blandsäd","Spannmål",5.7,8,0.8]
["Ärter, åkerbönor m.m.","Baljväxter, grönfoder och vall",5.8,9,0.9]
["Konservärter","Baljväxter, grönfoder och vall",5.9,10,1]
["Majs","Baljväxter, grönfoder och vall",6,11,1.1000000000000001]
["Vall","Baljväxter, grönfoder och vall",6.1,12,1.2]
["Frövall","Baljväxter, grönfoder och vall",6.2,13,1.3]
["Potatis","Potatis, sockerbetor och oljeväxter",6.3,14,1.4]
["Sockerbetor","Potatis, sockerbetor och oljeväxter",6.4,15,1.5]
["Höstraps","Potatis, sockerbetor och oljeväxter",6.5,16,1.6]
["Vårraps","Potatis, sockerbetor och oljeväxter",6.6,17,1.7]
["Höstrybs","Potatis, sockerbetor och oljeväxter",6.7,18,1.8]
["Vårrybs","Potatis, sockerbetor och oljeväxter",6.8,19,1.9]
["Oljelin","Potatis, sockerbetor och oljeväxter",6.9,20,2]
["Energiskog","Träda m.m.",7,21,2.1]
["Trädgårdsväxter","Träda m.m.",7.1,22,2.2000000000000002]
["Andra växtslag","Träda m.m.",7.2,23,2.2999999999999998]
[null,null,7.3,24,2.4]
[null,null,7.4,25,2.5]
[null,null,7.5,26,2.6]
[null,null,7.6,27,2.7]
[null,null,7.7,28,2.8]
[null,null,7.9,29,2.9]
[null,null,8,30,3]
[null,null,8.1,null,3.1]
[null,null,8.1,null,3.2]
[null,null,8.3000000000000007,null,3.3]
[null,null,8.4,null,3.4]
[null,null,8.5,null,3.5]
[null,null,8.6,null,3.6]
[null,null,8.6999999999999993,null,3.7]
[null,null,8.8000000000000007,null,3.8]
[null,null,8.9,null,3.9]
[null,null,9,null,4]
[null,null,null,null,4.0999999999999996]
[null,null,null,null,4.2]
[null,null,null,null,4.3]
[null,null,null,null,4.4000000000000004]
[null,null,null,null,4.5]
[null,null,null,null,4.5999999999999996]
[null,null,null,null,4.7]
[null,null,null,null,4.8]
[null,null,null,null,4.9000000000000004]
[null,null,null,null,5]
[null,null,null,null,5.0999999999999996]
[null,null,null,null,5.2]
[null,null,null,null,5.3]
[null,null,null,null,5.4]
[null,null,null,null,5.5]
[null,null,null,null,5.6]
[null,null,null,null,5.7]
[null,null,null,null,5.8]
[null,null,null,null,5.9]
[null,null,null,null,6]